BEGIN:VCALENDAR
VERSION:2.0
PRODID:-//Sal Demilio - ECPv6.15.20//NONSGML v1.0//EN
CALSCALE:GREGORIAN
METHOD:PUBLISH
X-WR-CALNAME:Sal Demilio
X-ORIGINAL-URL:https://saldemilio.com
X-WR-CALDESC:Events for Sal Demilio
REFRESH-INTERVAL;VALUE=DURATION:PT1H
X-Robots-Tag:noindex
X-PUBLISHED-TTL:PT1H
BEGIN:VTIMEZONE
TZID:UTC
BEGIN:STANDARD
TZOFFSETFROM:+0000
TZOFFSETTO:+0000
TZNAME:UTC
DTSTART:20220101T000000
END:STANDARD
END:VTIMEZONE
BEGIN:VEVENT
DTSTART;TZID=UTC:20231230T080000
DTEND;TZID=UTC:20231230T170000
DTSTAMP:20260423T072923
CREATED:20231122T022843Z
LAST-MODIFIED:20231122T022843Z
UID:1362-1703923200-1703955600@saldemilio.com
SUMMARY:Comedy Cabana - Myrtle Beach SC - 7:30 & 9:30 PM
DESCRIPTION:
URL:https://saldemilio.com/event/comedy-cabana-myrtle-beach-sc-730-930-pm-4/
LOCATION:Comedy Cabana\, 9588 North Kings Highway\, Myrtle Beach\, SC\, 29572\, United States
END:VEVENT
END:VCALENDAR