BEGIN:VCALENDAR
VERSION:2.0
PRODID:-//Sal Demilio - ECPv6.15.20//NONSGML v1.0//EN
CALSCALE:GREGORIAN
METHOD:PUBLISH
X-ORIGINAL-URL:https://saldemilio.com
X-WR-CALDESC:Events for Sal Demilio
REFRESH-INTERVAL;VALUE=DURATION:PT1H
X-Robots-Tag:noindex
X-PUBLISHED-TTL:PT1H
BEGIN:VTIMEZONE
TZID:UTC
BEGIN:STANDARD
TZOFFSETFROM:+0000
TZOFFSETTO:+0000
TZNAME:UTC
DTSTART:20230101T000000
END:STANDARD
END:VTIMEZONE
BEGIN:VEVENT
DTSTART;TZID=UTC:20240112T210000
DTEND;TZID=UTC:20240112T223000
DTSTAMP:20260423T052842
CREATED:20240109T163010Z
LAST-MODIFIED:20240109T163010Z
UID:1384-1705093200-1705098600@saldemilio.com
SUMMARY:Unique Blue Bar & Grille - Bluffton Indiana 9 PM Show
DESCRIPTION:
URL:https://saldemilio.com/event/unique-blue-bar-grille-bluffton-indiana-9-pm-show/
LOCATION:unique bar and Grille\, 205 W Market Street\, Bluffton\, IN\, United States
END:VEVENT
END:VCALENDAR