BEGIN:VCALENDAR
VERSION:2.0
PRODID:-//Sal Demilio - ECPv6.15.20//NONSGML v1.0//EN
CALSCALE:GREGORIAN
METHOD:PUBLISH
X-WR-CALNAME:Sal Demilio
X-ORIGINAL-URL:https://saldemilio.com
X-WR-CALDESC:Events for Sal Demilio
REFRESH-INTERVAL;VALUE=DURATION:PT1H
X-Robots-Tag:noindex
X-PUBLISHED-TTL:PT1H
BEGIN:VTIMEZONE
TZID:UTC
BEGIN:STANDARD
TZOFFSETFROM:+0000
TZOFFSETTO:+0000
TZNAME:UTC
DTSTART:20230101T000000
END:STANDARD
END:VTIMEZONE
BEGIN:VEVENT
DTSTART;TZID=UTC:20240118T193000
DTEND;TZID=UTC:20240118T210000
DTSTAMP:20260423T052620
CREATED:20240109T163530Z
LAST-MODIFIED:20240109T163530Z
UID:1389-1705606200-1705611600@saldemilio.com
SUMMARY:ONE NIGHT STANS COMEDY CLUB - Open Mic Night - 7:30 PM
DESCRIPTION:
URL:https://saldemilio.com/event/one-night-stans-comedy-club-open-mic-night-730-pm/
LOCATION:One Night Stans Comedy Club\, 4761 Highland Road\, Waterford\, Michigan
END:VEVENT
END:VCALENDAR