BEGIN:VCALENDAR
VERSION:2.0
PRODID:-//Sal Demilio - ECPv6.15.20//NONSGML v1.0//EN
CALSCALE:GREGORIAN
METHOD:PUBLISH
X-ORIGINAL-URL:https://saldemilio.com
X-WR-CALDESC:Events for Sal Demilio
REFRESH-INTERVAL;VALUE=DURATION:PT1H
X-Robots-Tag:noindex
X-PUBLISHED-TTL:PT1H
BEGIN:VTIMEZONE
TZID:UTC
BEGIN:STANDARD
TZOFFSETFROM:+0000
TZOFFSETTO:+0000
TZNAME:UTC
DTSTART:20230101T000000
END:STANDARD
END:VTIMEZONE
BEGIN:VEVENT
DTSTART;TZID=UTC:20240125T200000
DTEND;TZID=UTC:20240125T213000
DTSTAMP:20260423T052842
CREATED:20240109T165240Z
LAST-MODIFIED:20240109T165240Z
UID:1398-1706212800-1706218200@saldemilio.com
SUMMARY:Motown Mark Comedy Fundraiser : South Lyon Hotel - 8 PM Show
DESCRIPTION:
URL:https://saldemilio.com/event/motown-mark-comedy-fundraiser-south-lyon-hotel-8-pm-show/
LOCATION:South Lyon Hotel\, 201 N Lafayette Street\, South Lyon\, MI\, United States
END:VEVENT
END:VCALENDAR