BEGIN:VCALENDAR
VERSION:2.0
PRODID:-//Sal Demilio - ECPv6.15.20//NONSGML v1.0//EN
CALSCALE:GREGORIAN
METHOD:PUBLISH
X-ORIGINAL-URL:https://saldemilio.com
X-WR-CALDESC:Events for Sal Demilio
REFRESH-INTERVAL;VALUE=DURATION:PT1H
X-Robots-Tag:noindex
X-PUBLISHED-TTL:PT1H
BEGIN:VTIMEZONE
TZID:UTC
BEGIN:STANDARD
TZOFFSETFROM:+0000
TZOFFSETTO:+0000
TZNAME:UTC
DTSTART:20230101T000000
END:STANDARD
END:VTIMEZONE
BEGIN:VEVENT
DTSTART;TZID=UTC:20240202T173000
DTEND;TZID=UTC:20240202T190000
DTSTAMP:20260423T034255
CREATED:20240109T170729Z
LAST-MODIFIED:20240109T170729Z
UID:1409-1706895000-1706900400@saldemilio.com
SUMMARY:TRAVERSE CITY COMEDY FESTIVAL - Traverse City - Old Town Playhouse @ 5:30 PM
DESCRIPTION:
URL:https://saldemilio.com/event/traverse-city-comedy-festival-traverse-city-old-town-playhouse-530-pm/
LOCATION:OLD TOWN PLAYHOUSE\, 148 E Eight Street\, Traverse City\, MI\, 49684\, United States
END:VEVENT
END:VCALENDAR