BEGIN:VCALENDAR
VERSION:2.0
PRODID:-//Sal Demilio - ECPv6.15.20//NONSGML v1.0//EN
CALSCALE:GREGORIAN
METHOD:PUBLISH
X-ORIGINAL-URL:https://saldemilio.com
X-WR-CALDESC:Events for Sal Demilio
REFRESH-INTERVAL;VALUE=DURATION:PT1H
X-Robots-Tag:noindex
X-PUBLISHED-TTL:PT1H
BEGIN:VTIMEZONE
TZID:UTC
BEGIN:STANDARD
TZOFFSETFROM:+0000
TZOFFSETTO:+0000
TZNAME:UTC
DTSTART:20230101T000000
END:STANDARD
END:VTIMEZONE
BEGIN:VEVENT
DTSTART;TZID=UTC:20240216T080000
DTEND;TZID=UTC:20240216T170000
DTSTAMP:20260423T034416
CREATED:20240109T172532Z
LAST-MODIFIED:20240109T172532Z
UID:1424-1708070400-1708102800@saldemilio.com
SUMMARY:BRIMLEY CASINO COMEDY NIGHT - Brimley MI - 8 PM Show
DESCRIPTION:
URL:https://saldemilio.com/event/brimley-casino-comedy-night-brimley-mi-8-pm-show/
LOCATION:BAYMILLS CASINO
END:VEVENT
END:VCALENDAR