BEGIN:VCALENDAR
VERSION:2.0
PRODID:-//Sal Demilio - ECPv6.15.20//NONSGML v1.0//EN
CALSCALE:GREGORIAN
METHOD:PUBLISH
X-ORIGINAL-URL:https://saldemilio.com
X-WR-CALDESC:Events for Sal Demilio
REFRESH-INTERVAL;VALUE=DURATION:PT1H
X-Robots-Tag:noindex
X-PUBLISHED-TTL:PT1H
BEGIN:VTIMEZONE
TZID:UTC
BEGIN:STANDARD
TZOFFSETFROM:+0000
TZOFFSETTO:+0000
TZNAME:UTC
DTSTART:20230101T000000
END:STANDARD
END:VTIMEZONE
BEGIN:VEVENT
DTSTART;TZID=UTC:20240217T080000
DTEND;TZID=UTC:20240217T170000
DTSTAMP:20260423T034255
CREATED:20240109T172653Z
LAST-MODIFIED:20240109T172653Z
UID:1427-1708156800-1708189200@saldemilio.com
SUMMARY:HOLLY MEADOWS COMEDY NIGHT - 8 PM Show / Dinner At 7:00 PM
DESCRIPTION:
URL:https://saldemilio.com/event/holly-meadows-comedy-night-8-pm-show-dinner-at-700-pm/
LOCATION:Holly Meadows Country Club\, 4855 Capac Road\, Capac\, MI\, 48014
END:VEVENT
END:VCALENDAR