BEGIN:VCALENDAR
VERSION:2.0
PRODID:-//Sal Demilio - ECPv6.15.20//NONSGML v1.0//EN
CALSCALE:GREGORIAN
METHOD:PUBLISH
X-ORIGINAL-URL:https://saldemilio.com
X-WR-CALDESC:Events for Sal Demilio
REFRESH-INTERVAL;VALUE=DURATION:PT1H
X-Robots-Tag:noindex
X-PUBLISHED-TTL:PT1H
BEGIN:VTIMEZONE
TZID:UTC
BEGIN:STANDARD
TZOFFSETFROM:+0000
TZOFFSETTO:+0000
TZNAME:UTC
DTSTART:20230101T000000
END:STANDARD
END:VTIMEZONE
BEGIN:VEVENT
DTSTART;TZID=UTC:20240419T200000
DTEND;TZID=UTC:20240419T213000
DTSTAMP:20260423T001901
CREATED:20240313T232424Z
LAST-MODIFIED:20240313T232424Z
UID:1478-1713556800-1713562200@saldemilio.com
SUMMARY:BIG TOMMYS COMEDY CLUB - NOVI \, MICHIGAN - 8 PM Show
DESCRIPTION:
URL:https://saldemilio.com/event/big-tommys-comedy-club-novi-michigan-8-pm-show/
LOCATION:Big Tommys Comedy Club\, 40380 Grand Rver Avenue\, Novi\, MI\, 48375\, United States
END:VEVENT
END:VCALENDAR