BEGIN:VCALENDAR
VERSION:2.0
PRODID:-//Sal Demilio - ECPv6.15.20//NONSGML v1.0//EN
CALSCALE:GREGORIAN
METHOD:PUBLISH
X-ORIGINAL-URL:https://saldemilio.com
X-WR-CALDESC:Events for Sal Demilio
REFRESH-INTERVAL;VALUE=DURATION:PT1H
X-Robots-Tag:noindex
X-PUBLISHED-TTL:PT1H
BEGIN:VTIMEZONE
TZID:UTC
BEGIN:STANDARD
TZOFFSETFROM:+0000
TZOFFSETTO:+0000
TZNAME:UTC
DTSTART:20230101T000000
END:STANDARD
END:VTIMEZONE
BEGIN:VEVENT
DTSTART;TZID=UTC:20240510T200000
DTEND;TZID=UTC:20240510T213000
DTSTAMP:20260422T223013
CREATED:20240415T193102Z
LAST-MODIFIED:20240415T193102Z
UID:1506-1715371200-1715376600@saldemilio.com
SUMMARY:YOUNGERS IRISH TAVERN - COMEDY SHOW - 8 PM
DESCRIPTION:
URL:https://saldemilio.com/event/youngers-irish-tavern-comedy-show-8-pm/
LOCATION:Youngers Irish Tavern\, 120 S Main Street\, Romeo\, MI\, 48065\, United States
END:VEVENT
END:VCALENDAR