BEGIN:VCALENDAR
VERSION:2.0
PRODID:-//Sal Demilio - ECPv6.15.20//NONSGML v1.0//EN
CALSCALE:GREGORIAN
METHOD:PUBLISH
X-ORIGINAL-URL:https://saldemilio.com
X-WR-CALDESC:Events for Sal Demilio
REFRESH-INTERVAL;VALUE=DURATION:PT1H
X-Robots-Tag:noindex
X-PUBLISHED-TTL:PT1H
BEGIN:VTIMEZONE
TZID:UTC
BEGIN:STANDARD
TZOFFSETFROM:+0000
TZOFFSETTO:+0000
TZNAME:UTC
DTSTART:20230101T000000
END:STANDARD
END:VTIMEZONE
BEGIN:VEVENT
DTSTART;TZID=UTC:20240518T200000
DTEND;TZID=UTC:20240518T213000
DTSTAMP:20260420T183819
CREATED:20240415T191203Z
LAST-MODIFIED:20240415T191203Z
UID:1503-1716062400-1716067800@saldemilio.com
SUMMARY:HARTLAND MUSIC HALL - SAL DEMILIO - 8 PM SHOW
DESCRIPTION:
URL:https://saldemilio.com/event/hartland-music-hall-sal-demilio-8-pm-show/
LOCATION:Hartland Music Hall\, 3619 Avon Street\, Hartland\, MI\, 48353\, United States
END:VEVENT
END:VCALENDAR