BEGIN:VCALENDAR
VERSION:2.0
PRODID:-//Sal Demilio - ECPv6.15.20//NONSGML v1.0//EN
CALSCALE:GREGORIAN
METHOD:PUBLISH
X-ORIGINAL-URL:https://saldemilio.com
X-WR-CALDESC:Events for Sal Demilio
REFRESH-INTERVAL;VALUE=DURATION:PT1H
X-Robots-Tag:noindex
X-PUBLISHED-TTL:PT1H
BEGIN:VTIMEZONE
TZID:UTC
BEGIN:STANDARD
TZOFFSETFROM:+0000
TZOFFSETTO:+0000
TZNAME:UTC
DTSTART:20230101T000000
END:STANDARD
END:VTIMEZONE
BEGIN:VEVENT
DTSTART;TZID=UTC:20240627T200000
DTEND;TZID=UTC:20240627T213000
DTSTAMP:20260422T204418
CREATED:20240510T003746Z
LAST-MODIFIED:20240531T182026Z
UID:1525-1719518400-1719523800@saldemilio.com
SUMMARY:FUNNYSTOP COMEDY CLUB - 8 PM Show - Cuyahoga Falls \, OH
DESCRIPTION:
URL:https://saldemilio.com/event/funnystop-comedy-club-8-pm-show-akron-ohio/
LOCATION:funny stop comedy club
END:VEVENT
END:VCALENDAR