BEGIN:VCALENDAR
VERSION:2.0
PRODID:-//Sal Demilio - ECPv6.15.20//NONSGML v1.0//EN
CALSCALE:GREGORIAN
METHOD:PUBLISH
X-WR-CALNAME:Sal Demilio
X-ORIGINAL-URL:https://saldemilio.com
X-WR-CALDESC:Events for Sal Demilio
REFRESH-INTERVAL;VALUE=DURATION:PT1H
X-Robots-Tag:noindex
X-PUBLISHED-TTL:PT1H
BEGIN:VTIMEZONE
TZID:UTC
BEGIN:STANDARD
TZOFFSETFROM:+0000
TZOFFSETTO:+0000
TZNAME:UTC
DTSTART:20230101T000000
END:STANDARD
END:VTIMEZONE
BEGIN:VEVENT
DTSTART;TZID=UTC:20240716T200000
DTEND;TZID=UTC:20240716T213000
DTSTAMP:20260422T184712
CREATED:20240604T003132Z
LAST-MODIFIED:20240604T003132Z
UID:1556-1721160000-1721165400@saldemilio.com
SUMMARY:Village Pub Comedy Night - Pentwater \, MI - 8PM Show
DESCRIPTION:
URL:https://saldemilio.com/event/village-pub-comedy-night-pentwater-mi-8pm-show/
LOCATION:Village Pub
END:VEVENT
END:VCALENDAR