BEGIN:VCALENDAR
VERSION:2.0
PRODID:-//Sal Demilio - ECPv6.15.20//NONSGML v1.0//EN
CALSCALE:GREGORIAN
METHOD:PUBLISH
X-WR-CALNAME:Sal Demilio
X-ORIGINAL-URL:https://saldemilio.com
X-WR-CALDESC:Events for Sal Demilio
REFRESH-INTERVAL;VALUE=DURATION:PT1H
X-Robots-Tag:noindex
X-PUBLISHED-TTL:PT1H
BEGIN:VTIMEZONE
TZID:UTC
BEGIN:STANDARD
TZOFFSETFROM:+0000
TZOFFSETTO:+0000
TZNAME:UTC
DTSTART:20230101T000000
END:STANDARD
END:VTIMEZONE
BEGIN:VEVENT
DTSTART;TZID=UTC:20241109T200000
DTEND;TZID=UTC:20241109T213000
DTSTAMP:20260422T120902
CREATED:20241108T143816Z
LAST-MODIFIED:20241108T143816Z
UID:1646-1731182400-1731187800@saldemilio.com
SUMMARY:THE UNDERGROUND LAUGH LOUNGE - Niles Michigan - 8 PM Show
DESCRIPTION:
URL:https://saldemilio.com/event/the-underground-laugh-lounge-niles-michigan-8-pm-show/
LOCATION:The Underground Laugh Lounge\, 321 E Main Street\, Niles\, MI\, 49120\, United States
END:VEVENT
END:VCALENDAR