BEGIN:VCALENDAR
VERSION:2.0
PRODID:-//Sal Demilio - ECPv6.15.20//NONSGML v1.0//EN
CALSCALE:GREGORIAN
METHOD:PUBLISH
X-ORIGINAL-URL:https://saldemilio.com
X-WR-CALDESC:Events for Sal Demilio
REFRESH-INTERVAL;VALUE=DURATION:PT1H
X-Robots-Tag:noindex
X-PUBLISHED-TTL:PT1H
BEGIN:VTIMEZONE
TZID:UTC
BEGIN:STANDARD
TZOFFSETFROM:+0000
TZOFFSETTO:+0000
TZNAME:UTC
DTSTART:20230101T000000
END:STANDARD
END:VTIMEZONE
BEGIN:VEVENT
DTSTART;TZID=UTC:20241212T200000
DTEND;TZID=UTC:20241212T213000
DTSTAMP:20260422T102456
CREATED:20241211T200235Z
LAST-MODIFIED:20241211T200235Z
UID:1656-1734033600-1734039000@saldemilio.com
SUMMARY:CHAMPIONS BAR COMEDY NIGHT
DESCRIPTION:
URL:https://saldemilio.com/event/champions-bar-comedy-night/
LOCATION:Champions Sports Bar\, 22112 sibley road\, brownstown\, MI\, 48193\, United States
END:VEVENT
END:VCALENDAR