BEGIN:VCALENDAR
VERSION:2.0
PRODID:-//Sal Demilio - ECPv6.15.20//NONSGML v1.0//EN
CALSCALE:GREGORIAN
METHOD:PUBLISH
X-ORIGINAL-URL:https://saldemilio.com
X-WR-CALDESC:Events for Sal Demilio
REFRESH-INTERVAL;VALUE=DURATION:PT1H
X-Robots-Tag:noindex
X-PUBLISHED-TTL:PT1H
BEGIN:VTIMEZONE
TZID:UTC
BEGIN:STANDARD
TZOFFSETFROM:+0000
TZOFFSETTO:+0000
TZNAME:UTC
DTSTART:20240101T000000
END:STANDARD
END:VTIMEZONE
BEGIN:VEVENT
DTSTART;TZID=UTC:20250308T200000
DTEND;TZID=UTC:20250308T213000
DTSTAMP:20260422T045845
CREATED:20250115T165259Z
LAST-MODIFIED:20250115T165259Z
UID:1721-1741464000-1741469400@saldemilio.com
SUMMARY:Knights Of Columbus Wyandotte MI - 8:00 PM Show - W Mark Knope
DESCRIPTION:
URL:https://saldemilio.com/event/knights-of-columbus-wyandotte-mi-800-pm-show-w-mark-knope/
LOCATION:KofC Wyandotte
END:VEVENT
END:VCALENDAR