BEGIN:VCALENDAR
VERSION:2.0
PRODID:-//Sal Demilio - ECPv6.15.20//NONSGML v1.0//EN
CALSCALE:GREGORIAN
METHOD:PUBLISH
X-WR-CALNAME:Sal Demilio
X-ORIGINAL-URL:https://saldemilio.com
X-WR-CALDESC:Events for Sal Demilio
REFRESH-INTERVAL;VALUE=DURATION:PT1H
X-Robots-Tag:noindex
X-PUBLISHED-TTL:PT1H
BEGIN:VTIMEZONE
TZID:UTC
BEGIN:STANDARD
TZOFFSETFROM:+0000
TZOFFSETTO:+0000
TZNAME:UTC
DTSTART:20240101T000000
END:STANDARD
END:VTIMEZONE
BEGIN:VEVENT
DTSTART;TZID=UTC:20250322T200000
DTEND;TZID=UTC:20250322T213000
DTSTAMP:20260422T045721
CREATED:20250115T170115Z
LAST-MODIFIED:20250115T170115Z
UID:1731-1742673600-1742679000@saldemilio.com
SUMMARY:Whole Hearted Winery - South Lyon MI - 8:00 PM Show
DESCRIPTION:
URL:https://saldemilio.com/event/whole-hearted-winery-south-lyon-mi-800-pm-show/
LOCATION:Whole Hearted Winery\, 56808 grand river\, new hudson\, MI\, 48165\, United States
END:VEVENT
END:VCALENDAR