BEGIN:VCALENDAR
VERSION:2.0
PRODID:-//Sal Demilio - ECPv6.15.20//NONSGML v1.0//EN
CALSCALE:GREGORIAN
METHOD:PUBLISH
X-WR-CALNAME:Sal Demilio
X-ORIGINAL-URL:https://saldemilio.com
X-WR-CALDESC:Events for Sal Demilio
REFRESH-INTERVAL;VALUE=DURATION:PT1H
X-Robots-Tag:noindex
X-PUBLISHED-TTL:PT1H
BEGIN:VTIMEZONE
TZID:UTC
BEGIN:STANDARD
TZOFFSETFROM:+0000
TZOFFSETTO:+0000
TZNAME:UTC
DTSTART:20240101T000000
END:STANDARD
END:VTIMEZONE
BEGIN:VEVENT
DTSTART;TZID=UTC:20250327T190000
DTEND;TZID=UTC:20250327T213000
DTSTAMP:20260422T045721
CREATED:20250115T170332Z
LAST-MODIFIED:20250115T170332Z
UID:1733-1743102000-1743111000@saldemilio.com
SUMMARY:Sal & Bob Show Live At Ginetties Northville MI - 7:00 PM Dinner & Show After - $25
DESCRIPTION:
URL:https://saldemilio.com/event/sal-bob-show-live-at-ginetties-northville-mi-700-pm-dinner-show-after-25/
LOCATION:Genettis Hole In The Wall\, 108 East Main Street\, Northville\, Michigan
END:VEVENT
END:VCALENDAR