BEGIN:VCALENDAR
VERSION:2.0
PRODID:-//Sal Demilio - ECPv6.15.20//NONSGML v1.0//EN
CALSCALE:GREGORIAN
METHOD:PUBLISH
X-WR-CALNAME:Sal Demilio
X-ORIGINAL-URL:https://saldemilio.com
X-WR-CALDESC:Events for Sal Demilio
REFRESH-INTERVAL;VALUE=DURATION:PT1H
X-Robots-Tag:noindex
X-PUBLISHED-TTL:PT1H
BEGIN:VTIMEZONE
TZID:UTC
BEGIN:STANDARD
TZOFFSETFROM:+0000
TZOFFSETTO:+0000
TZNAME:UTC
DTSTART:20240101T000000
END:STANDARD
END:VTIMEZONE
BEGIN:VEVENT
DTSTART;TZID=UTC:20250406T200000
DTEND;TZID=UTC:20250406T203000
DTSTAMP:20260422T030809
CREATED:20250305T004656Z
LAST-MODIFIED:20250305T004656Z
UID:1763-1743969600-1743971400@saldemilio.com
SUMMARY:Carnival Cruise Spirit - Columbia
DESCRIPTION:
URL:https://saldemilio.com/event/carnival-cruise-spirit-columbia-5/
LOCATION:Carnival Cruise Spirit
END:VEVENT
END:VCALENDAR