BEGIN:VCALENDAR
VERSION:2.0
PRODID:-//Sal Demilio - ECPv6.15.20//NONSGML v1.0//EN
CALSCALE:GREGORIAN
METHOD:PUBLISH
X-WR-CALNAME:Sal Demilio
X-ORIGINAL-URL:https://saldemilio.com
X-WR-CALDESC:Events for Sal Demilio
REFRESH-INTERVAL;VALUE=DURATION:PT1H
X-Robots-Tag:noindex
X-PUBLISHED-TTL:PT1H
BEGIN:VTIMEZONE
TZID:UTC
BEGIN:STANDARD
TZOFFSETFROM:+0000
TZOFFSETTO:+0000
TZNAME:UTC
DTSTART:20240101T000000
END:STANDARD
END:VTIMEZONE
BEGIN:VEVENT
DTSTART;TZID=UTC:20250906T190000
DTEND;TZID=UTC:20250906T233000
DTSTAMP:20260421T191003
CREATED:20250723T165626Z
LAST-MODIFIED:20250723T165626Z
UID:1878-1757185200-1757201400@saldemilio.com
SUMMARY:Sal Demilio @ The Ann Arbor Comedy Showcase - 7:15 & 9:45 PM
DESCRIPTION:
URL:https://saldemilio.com/event/sal-demilio-the-ann-arbor-comedy-showcase-715-945-pm/
LOCATION:Ann Arbor Comedy Showcase\, 212 South 4th Ave\, Ann Arbor\, MI\, 48104\, United States
END:VEVENT
END:VCALENDAR