BEGIN:VCALENDAR
VERSION:2.0
PRODID:-//Sal Demilio - ECPv6.15.20//NONSGML v1.0//EN
CALSCALE:GREGORIAN
METHOD:PUBLISH
X-WR-CALNAME:Sal Demilio
X-ORIGINAL-URL:https://saldemilio.com
X-WR-CALDESC:Events for Sal Demilio
REFRESH-INTERVAL;VALUE=DURATION:PT1H
X-Robots-Tag:noindex
X-PUBLISHED-TTL:PT1H
BEGIN:VTIMEZONE
TZID:UTC
BEGIN:STANDARD
TZOFFSETFROM:+0000
TZOFFSETTO:+0000
TZNAME:UTC
DTSTART:20240101T000000
END:STANDARD
END:VTIMEZONE
BEGIN:VEVENT
DTSTART;TZID=UTC:20250912T080000
DTEND;TZID=UTC:20250912T170000
DTSTAMP:20260421T191009
CREATED:20250723T170144Z
LAST-MODIFIED:20250723T170144Z
UID:1880-1757664000-1757696400@saldemilio.com
SUMMARY:Sal & Bob Live Comedy Show @ Captain Joes - Whitmore Lake MI - Dinner / Show
DESCRIPTION:
URL:https://saldemilio.com/event/sal-bob-live-comedy-show-captain-joes-whitmore-lake-mi-dinner-show/
LOCATION:Captain Joes Comedy Club\, 9901 Main St\, Whitmore Lake\, MI\, 48189\, United States
END:VEVENT
END:VCALENDAR