BEGIN:VCALENDAR
VERSION:2.0
PRODID:-//Sal Demilio - ECPv6.15.20//NONSGML v1.0//EN
CALSCALE:GREGORIAN
METHOD:PUBLISH
X-ORIGINAL-URL:https://saldemilio.com
X-WR-CALDESC:Events for Sal Demilio
REFRESH-INTERVAL;VALUE=DURATION:PT1H
X-Robots-Tag:noindex
X-PUBLISHED-TTL:PT1H
BEGIN:VTIMEZONE
TZID:UTC
BEGIN:STANDARD
TZOFFSETFROM:+0000
TZOFFSETTO:+0000
TZNAME:UTC
DTSTART:20240101T000000
END:STANDARD
END:VTIMEZONE
BEGIN:VEVENT
DTSTART;TZID=UTC:20250923T080000
DTEND;TZID=UTC:20250928T170000
DTSTAMP:20260421T191307
CREATED:20250723T171008Z
LAST-MODIFIED:20250723T171008Z
UID:1885-1758614400-1759078800@saldemilio.com
SUMMARY:Carnival Cruise September 23 - 28 - Carnival Miracle
DESCRIPTION:
URL:https://saldemilio.com/event/carnival-cruise-september-23-28-carnival-miracle/
LOCATION:Michigan
END:VEVENT
END:VCALENDAR