BEGIN:VCALENDAR
VERSION:2.0
PRODID:-//Sal Demilio - ECPv6.15.20//NONSGML v1.0//EN
CALSCALE:GREGORIAN
METHOD:PUBLISH
X-ORIGINAL-URL:https://saldemilio.com
X-WR-CALDESC:Events for Sal Demilio
REFRESH-INTERVAL;VALUE=DURATION:PT1H
X-Robots-Tag:noindex
X-PUBLISHED-TTL:PT1H
BEGIN:VTIMEZONE
TZID:UTC
BEGIN:STANDARD
TZOFFSETFROM:+0000
TZOFFSETTO:+0000
TZNAME:UTC
DTSTART:20240101T000000
END:STANDARD
END:VTIMEZONE
BEGIN:VEVENT
DTSTART;TZID=UTC:20251107T190000
DTEND;TZID=UTC:20251107T220000
DTSTAMP:20260421T161632
CREATED:20251022T235759Z
LAST-MODIFIED:20251022T235831Z
UID:1905-1762542000-1762552800@saldemilio.com
SUMMARY:The Barn Fenton - Comedy Fundraiser
DESCRIPTION:
URL:https://saldemilio.com/event/the-barn-fenton-comedy-fundraiser/
LOCATION:THE BARN\, 715 Torrey Road\, Fenton\, MI\, United States
END:VEVENT
END:VCALENDAR