BEGIN:VCALENDAR
VERSION:2.0
PRODID:-//Sal Demilio - ECPv6.15.20//NONSGML v1.0//EN
CALSCALE:GREGORIAN
METHOD:PUBLISH
X-WR-CALNAME:Sal Demilio
X-ORIGINAL-URL:https://saldemilio.com
X-WR-CALDESC:Events for Sal Demilio
REFRESH-INTERVAL;VALUE=DURATION:PT1H
X-Robots-Tag:noindex
X-PUBLISHED-TTL:PT1H
BEGIN:VTIMEZONE
TZID:UTC
BEGIN:STANDARD
TZOFFSETFROM:+0000
TZOFFSETTO:+0000
TZNAME:UTC
DTSTART:20240101T000000
END:STANDARD
END:VTIMEZONE
BEGIN:VEVENT
DTSTART;TZID=UTC:20251204T170000
DTEND;TZID=UTC:20251204T200000
DTSTAMP:20260421T143747
CREATED:20251029T174845Z
LAST-MODIFIED:20251029T174845Z
UID:1929-1764867600-1764878400@saldemilio.com
SUMMARY:RULLIS ITALIAN RESTARAUNT - ELKHART IN - DINNER & SHOW - 5:00 PM
DESCRIPTION:
URL:https://saldemilio.com/event/rullis-italian-restaraunt-elkhart-in-dinner-show-500-pm/
LOCATION:Rullis Italian Restaraunt\, 54595 County Road 17\, Elkhart\, IN\, United States
END:VEVENT
END:VCALENDAR