BEGIN:VCALENDAR
VERSION:2.0
PRODID:-//Sal Demilio - ECPv6.15.20//NONSGML v1.0//EN
CALSCALE:GREGORIAN
METHOD:PUBLISH
X-WR-CALNAME:Sal Demilio
X-ORIGINAL-URL:https://saldemilio.com
X-WR-CALDESC:Events for Sal Demilio
REFRESH-INTERVAL;VALUE=DURATION:PT1H
X-Robots-Tag:noindex
X-PUBLISHED-TTL:PT1H
BEGIN:VTIMEZONE
TZID:UTC
BEGIN:STANDARD
TZOFFSETFROM:+0000
TZOFFSETTO:+0000
TZNAME:UTC
DTSTART:20240101T000000
END:STANDARD
END:VTIMEZONE
BEGIN:VEVENT
DTSTART;TZID=UTC:20251206T200000
DTEND;TZID=UTC:20251206T213000
DTSTAMP:20260421T143904
CREATED:20251029T175438Z
LAST-MODIFIED:20251029T175438Z
UID:1934-1765051200-1765056600@saldemilio.com
SUMMARY:Underground Laugh Lounge - Sal Demilio & Bob Phillips - 8 PM Show
DESCRIPTION:
URL:https://saldemilio.com/event/underground-laugh-lounge-sal-demilio-bob-phillips-8-pm-show/
LOCATION:Underground Laugh Lounge\, 321 E Main Street\, Niles\, MI\, 49120\, United States
END:VEVENT
END:VCALENDAR