BEGIN:VCALENDAR
VERSION:2.0
PRODID:-//Sal Demilio - ECPv6.15.20//NONSGML v1.0//EN
CALSCALE:GREGORIAN
METHOD:PUBLISH
X-WR-CALNAME:Sal Demilio
X-ORIGINAL-URL:https://saldemilio.com
X-WR-CALDESC:Events for Sal Demilio
REFRESH-INTERVAL;VALUE=DURATION:PT1H
X-Robots-Tag:noindex
X-PUBLISHED-TTL:PT1H
BEGIN:VTIMEZONE
TZID:UTC
BEGIN:STANDARD
TZOFFSETFROM:+0000
TZOFFSETTO:+0000
TZNAME:UTC
DTSTART:20240101T000000
END:STANDARD
END:VTIMEZONE
BEGIN:VEVENT
DTSTART;TZID=UTC:20251220T200000
DTEND;TZID=UTC:20251220T203000
DTSTAMP:20260421T143911
CREATED:20251029T181012Z
LAST-MODIFIED:20251029T181012Z
UID:1950-1766260800-1766262600@saldemilio.com
SUMMARY:Carnival Breeze - Punchliners Comedy Club
DESCRIPTION:
URL:https://saldemilio.com/event/carnival-breeze-punchliners-comedy-club/
LOCATION:Carnival Breeze
END:VEVENT
END:VCALENDAR