BEGIN:VCALENDAR
VERSION:2.0
PRODID:-//Sal Demilio - ECPv6.15.20//NONSGML v1.0//EN
CALSCALE:GREGORIAN
METHOD:PUBLISH
X-WR-CALNAME:Sal Demilio
X-ORIGINAL-URL:https://saldemilio.com
X-WR-CALDESC:Events for Sal Demilio
REFRESH-INTERVAL;VALUE=DURATION:PT1H
X-Robots-Tag:noindex
X-PUBLISHED-TTL:PT1H
BEGIN:VTIMEZONE
TZID:UTC
BEGIN:STANDARD
TZOFFSETFROM:+0000
TZOFFSETTO:+0000
TZNAME:UTC
DTSTART:20240101T000000
END:STANDARD
END:VTIMEZONE
BEGIN:VEVENT
DTSTART;TZID=UTC:20251229T200000
DTEND;TZID=UTC:20251229T203000
DTSTAMP:20260421T125727
CREATED:20251029T181640Z
LAST-MODIFIED:20251029T181640Z
UID:1960-1767038400-1767040200@saldemilio.com
SUMMARY:Carnival Freedom - Punchliners Comedy Club
DESCRIPTION:
URL:https://saldemilio.com/event/carnival-freedom-punchliners-comedy-club/
LOCATION:CARNIVAL FREEDOM
END:VEVENT
END:VCALENDAR