BEGIN:VCALENDAR
VERSION:2.0
PRODID:-//Sal Demilio - ECPv6.15.20//NONSGML v1.0//EN
CALSCALE:GREGORIAN
METHOD:PUBLISH
X-WR-CALNAME:Sal Demilio
X-ORIGINAL-URL:https://saldemilio.com
X-WR-CALDESC:Events for Sal Demilio
REFRESH-INTERVAL;VALUE=DURATION:PT1H
X-Robots-Tag:noindex
X-PUBLISHED-TTL:PT1H
BEGIN:VTIMEZONE
TZID:UTC
BEGIN:STANDARD
TZOFFSETFROM:+0000
TZOFFSETTO:+0000
TZNAME:UTC
DTSTART:20250101T000000
END:STANDARD
END:VTIMEZONE
BEGIN:VEVENT
DTSTART;TZID=UTC:20260114T190000
DTEND;TZID=UTC:20260114T203000
DTSTAMP:20260421T125653
CREATED:20260110T163003Z
LAST-MODIFIED:20260110T163003Z
UID:1997-1768417200-1768422600@saldemilio.com
SUMMARY:The Funny Spot - Hamlin Pub - 7 PM Show
DESCRIPTION:
URL:https://saldemilio.com/event/the-funny-spot-hamlin-pub-7-pm-show/
LOCATION:Hamlin Pub\, 1180 S Irish Road\, Davison\, MI\, United States
END:VEVENT
END:VCALENDAR