BEGIN:VCALENDAR
VERSION:2.0
PRODID:-//Sal Demilio - ECPv6.15.20//NONSGML v1.0//EN
CALSCALE:GREGORIAN
METHOD:PUBLISH
X-WR-CALNAME:Sal Demilio
X-ORIGINAL-URL:https://saldemilio.com
X-WR-CALDESC:Events for Sal Demilio
REFRESH-INTERVAL;VALUE=DURATION:PT1H
X-Robots-Tag:noindex
X-PUBLISHED-TTL:PT1H
BEGIN:VTIMEZONE
TZID:UTC
BEGIN:STANDARD
TZOFFSETFROM:+0000
TZOFFSETTO:+0000
TZNAME:UTC
DTSTART:20250101T000000
END:STANDARD
END:VTIMEZONE
BEGIN:VEVENT
DTSTART;TZID=UTC:20260123T183000
DTEND;TZID=UTC:20260123T210000
DTSTAMP:20260421T170739
CREATED:20260110T171117Z
LAST-MODIFIED:20260110T171117Z
UID:2006-1769193000-1769202000@saldemilio.com
SUMMARY:Laugh & The Legion - Post 346 - Sal Demilio
DESCRIPTION:
URL:https://saldemilio.com/event/laugh-the-legion-post-346-sal-demilio/
LOCATION:American Legion 346\, 21023 Farmington Road\, Farmington Hills\, MI\, United States
END:VEVENT
END:VCALENDAR