BEGIN:VCALENDAR
VERSION:2.0
PRODID:-//Sal Demilio - ECPv6.15.20//NONSGML v1.0//EN
CALSCALE:GREGORIAN
METHOD:PUBLISH
X-WR-CALNAME:Sal Demilio
X-ORIGINAL-URL:https://saldemilio.com
X-WR-CALDESC:Events for Sal Demilio
REFRESH-INTERVAL;VALUE=DURATION:PT1H
X-Robots-Tag:noindex
X-PUBLISHED-TTL:PT1H
BEGIN:VTIMEZONE
TZID:UTC
BEGIN:STANDARD
TZOFFSETFROM:+0000
TZOFFSETTO:+0000
TZNAME:UTC
DTSTART:20250101T000000
END:STANDARD
END:VTIMEZONE
BEGIN:VEVENT
DTSTART;TZID=UTC:20260124T200000
DTEND;TZID=UTC:20260124T213000
DTSTAMP:20260421T125653
CREATED:20260110T171629Z
LAST-MODIFIED:20260110T171629Z
UID:2009-1769284800-1769290200@saldemilio.com
SUMMARY:Johnny Ts Bistro Comedy Night - Sal Demilio
DESCRIPTION:
URL:https://saldemilio.com/event/johnny-ts-bistro-comedy-night-sal-demilio/
LOCATION:Johnny Ts Bistro\, 171 E South Street\, Hillsdale\, MI\, United States
END:VEVENT
END:VCALENDAR