BEGIN:VCALENDAR
VERSION:2.0
PRODID:-//Sal Demilio - ECPv6.15.20//NONSGML v1.0//EN
CALSCALE:GREGORIAN
METHOD:PUBLISH
X-ORIGINAL-URL:https://saldemilio.com
X-WR-CALDESC:Events for Sal Demilio
REFRESH-INTERVAL;VALUE=DURATION:PT1H
X-Robots-Tag:noindex
X-PUBLISHED-TTL:PT1H
BEGIN:VTIMEZONE
TZID:UTC
BEGIN:STANDARD
TZOFFSETFROM:+0000
TZOFFSETTO:+0000
TZNAME:UTC
DTSTART:20250101T000000
END:STANDARD
END:VTIMEZONE
BEGIN:VEVENT
DTSTART;TZID=UTC:20260213T183000
DTEND;TZID=UTC:20260213T213000
DTSTAMP:20260421T112806
CREATED:20260110T172014Z
LAST-MODIFIED:20260110T172014Z
UID:2015-1771007400-1771018200@saldemilio.com
SUMMARY:Captain Joes Valentines Day Weekend Comedy Shows
DESCRIPTION:
URL:https://saldemilio.com/event/captain-joes-valentines-day-weekend-comedy-shows/
LOCATION:Captain Joes Comedy Club\, 9901 Main St\, Whitmore Lake\, MI\, 48189\, United States
END:VEVENT
END:VCALENDAR