BEGIN:VCALENDAR
VERSION:2.0
PRODID:-//Sal Demilio - ECPv6.15.20//NONSGML v1.0//EN
CALSCALE:GREGORIAN
METHOD:PUBLISH
X-ORIGINAL-URL:https://saldemilio.com
X-WR-CALDESC:Events for Sal Demilio
REFRESH-INTERVAL;VALUE=DURATION:PT1H
X-Robots-Tag:noindex
X-PUBLISHED-TTL:PT1H
BEGIN:VTIMEZONE
TZID:UTC
BEGIN:STANDARD
TZOFFSETFROM:+0000
TZOFFSETTO:+0000
TZNAME:UTC
DTSTART:20250101T000000
END:STANDARD
END:VTIMEZONE
BEGIN:VEVENT
DTSTART;TZID=UTC:20260411T190000
DTEND;TZID=UTC:20260411T210000
DTSTAMP:20260421T095427
CREATED:20260129T034425Z
LAST-MODIFIED:20260129T034425Z
UID:2041-1775934000-1775941200@saldemilio.com
SUMMARY:American Legion Hall - Laingsburg \, MI - 7:00 - 9:00 PM
DESCRIPTION:
URL:https://saldemilio.com/event/american-legion-hall-laingsburg-mi-700-900-pm/
LOCATION:American Legion Hall\, Lainsburgh\, MI\, United States
END:VEVENT
END:VCALENDAR