BEGIN:VCALENDAR
VERSION:2.0
PRODID:-//Sal Demilio - ECPv6.15.20//NONSGML v1.0//EN
CALSCALE:GREGORIAN
METHOD:PUBLISH
X-WR-CALNAME:Sal Demilio
X-ORIGINAL-URL:https://saldemilio.com
X-WR-CALDESC:Events for Sal Demilio
REFRESH-INTERVAL;VALUE=DURATION:PT1H
X-Robots-Tag:noindex
X-PUBLISHED-TTL:PT1H
BEGIN:VTIMEZONE
TZID:UTC
BEGIN:STANDARD
TZOFFSETFROM:+0000
TZOFFSETTO:+0000
TZNAME:UTC
DTSTART:20220101T000000
END:STANDARD
END:VTIMEZONE
BEGIN:VEVENT
DTSTART;TZID=UTC:20231229T213000
DTEND;TZID=UTC:20231229T230000
DTSTAMP:20260423T111524
CREATED:20231227T182947Z
LAST-MODIFIED:20231227T182947Z
UID:1374-1703885400-1703890800@saldemilio.com
SUMMARY:Comedy Cabana Myrtle Beach SC - 9:30 PM Show
DESCRIPTION:
URL:https://saldemilio.com/event/comedy-cabana-myrtle-beach-sc-930-pm-show/
LOCATION:Comedy Cabana\, 9588 North Kings Highway\, Myrtle Beach\, SC\, 29572\, United States
END:VEVENT
BEGIN:VEVENT
DTSTART;TZID=UTC:20231229T193000
DTEND;TZID=UTC:20231229T230000
DTSTAMP:20260423T111524
CREATED:20231122T022713Z
LAST-MODIFIED:20231122T022713Z
UID:1360-1703878200-1703890800@saldemilio.com
SUMMARY:Comedy Cabana Myrtle Beach SC - 7:30 & 9:30 PM
DESCRIPTION:
URL:https://saldemilio.com/event/comedy-cabana-myrtle-beach-sc-730-930-pm-3/
LOCATION:Comedy Cabana\, 9588 North Kings Highway\, Myrtle Beach\, SC\, 29572\, United States
END:VEVENT
BEGIN:VEVENT
DTSTART;TZID=UTC:20231229T193000
DTEND;TZID=UTC:20231229T210000
DTSTAMP:20260423T111524
CREATED:20231227T182829Z
LAST-MODIFIED:20231227T182829Z
UID:1372-1703878200-1703883600@saldemilio.com
SUMMARY:Comedy Cabana Myrtle Beach SC - 7:30 PM Show
DESCRIPTION:
URL:https://saldemilio.com/event/comedy-cabana-myrtle-beach-sc-730-pm-show/
LOCATION:Comedy Cabana\, 9588 North Kings Highway\, Myrtle Beach\, SC\, 29572\, United States
END:VEVENT
BEGIN:VEVENT
DTSTART;TZID=UTC:20231229T080000
DTEND;TZID=UTC:20231229T170000
DTSTAMP:20260423T111524
CREATED:20231227T183108Z
LAST-MODIFIED:20231227T183108Z
UID:1376-1703836800-1703869200@saldemilio.com
SUMMARY:Comedy Cabana Myrtle Beach SC - 9:30 PM
DESCRIPTION:
URL:https://saldemilio.com/event/comedy-cabana-myrtle-beach-sc-930-pm/
LOCATION:Comedy Cabana\, 9588 North Kings Highway\, Myrtle Beach\, SC\, 29572\, United States
END:VEVENT
BEGIN:VEVENT
DTSTART;TZID=UTC:20231228T200000
DTEND;TZID=UTC:20231228T213000
DTSTAMP:20260423T111524
CREATED:20231227T182642Z
LAST-MODIFIED:20231227T182642Z
UID:1370-1703793600-1703799000@saldemilio.com
SUMMARY:Comedy Cabana Myrtle Beach SC - 8:00 PM Show
DESCRIPTION:
URL:https://saldemilio.com/event/comedy-cabana-myrtle-beach-sc-800-pm-show-3/
LOCATION:Comedy Cabana\, 9588 North Kings Highway\, Myrtle Beach\, SC\, 29572\, United States
END:VEVENT
BEGIN:VEVENT
DTSTART;TZID=UTC:20231228T200000
DTEND;TZID=UTC:20231228T213000
DTSTAMP:20260423T111524
CREATED:20231122T022342Z
LAST-MODIFIED:20231122T022342Z
UID:1358-1703793600-1703799000@saldemilio.com
SUMMARY:Comedy Cabana - Myrtle Beach SC - 8:00 PM
DESCRIPTION:
URL:https://saldemilio.com/event/comedy-cabana-myrtle-beach-sc-800-pm/
LOCATION:Comedy Cabana\, 9588 North Kings Highway\, Myrtle Beach\, SC\, 29572\, United States
END:VEVENT
BEGIN:VEVENT
DTSTART;TZID=UTC:20231223T200000
DTEND;TZID=UTC:20231223T213000
DTSTAMP:20260423T111524
CREATED:20231122T022131Z
LAST-MODIFIED:20231122T022131Z
UID:1356-1703361600-1703367000@saldemilio.com
SUMMARY:SANFORD MICHIGAN COMEDY NIGHT
DESCRIPTION:
URL:https://saldemilio.com/event/sanford-michigan-comedy-night/
LOCATION:Michigan
END:VEVENT
BEGIN:VEVENT
DTSTART;TZID=UTC:20231209T200000
DTEND;TZID=UTC:20231209T213000
DTSTAMP:20260423T111524
CREATED:20231108T235313Z
LAST-MODIFIED:20231108T235313Z
UID:1353-1702152000-1702157400@saldemilio.com
SUMMARY:Alpena Events Complex Comedy Show W / SAL DEMILIO
DESCRIPTION:
URL:https://saldemilio.com/event/alpena-events-complex-comedy-show-w-sal-demilio/
LOCATION:Alpena Events Complex\, 701 Woodward Avenue\, Alpena\, MI\, 49707\, United States
END:VEVENT
BEGIN:VEVENT
DTSTART;TZID=UTC:20231208T203000
DTEND;TZID=UTC:20231208T220000
DTSTAMP:20260423T111524
CREATED:20231108T235131Z
LAST-MODIFIED:20231108T235131Z
UID:1351-1702067400-1702072800@saldemilio.com
SUMMARY:Sal & Bob Show At Captain Joes
DESCRIPTION:
URL:https://saldemilio.com/event/sal-bob-show-at-captain-joes/
LOCATION:Captain Joes Comedy Club\, 9901 Main St\, Whitmore Lake\, MI\, 48189\, United States
END:VEVENT
BEGIN:VEVENT
DTSTART;TZID=UTC:20231207T080000
DTEND;TZID=UTC:20231207T170000
DTSTAMP:20260423T111524
CREATED:20231108T234954Z
LAST-MODIFIED:20231108T234954Z
UID:1349-1701936000-1701968400@saldemilio.com
SUMMARY:CORPORATE SHOW SAGINAW MICHIGAN
DESCRIPTION:
URL:https://saldemilio.com/event/corporate-show-saginaw-michigan/
LOCATION:Michigan
END:VEVENT
BEGIN:VEVENT
DTSTART;TZID=UTC:20231202T200000
DTEND;TZID=UTC:20231202T213000
DTSTAMP:20260423T111524
CREATED:20231108T233854Z
LAST-MODIFIED:20231108T233854Z
UID:1347-1701547200-1701552600@saldemilio.com
SUMMARY:SANDUSKY OHIO COMEDY NIGHT WITH SAL DEMILIO
DESCRIPTION:
URL:https://saldemilio.com/event/sandusky-ohio-comedy-night-with-sal-demilio/
LOCATION:Michigan
END:VEVENT
BEGIN:VEVENT
DTSTART;TZID=UTC:20231201T200000
DTEND;TZID=UTC:20231201T213000
DTSTAMP:20260423T111524
CREATED:20231108T233759Z
LAST-MODIFIED:20231108T233759Z
UID:1344-1701460800-1701466200@saldemilio.com
SUMMARY:Belle River Golf Course Comedy Night By The Comedy Series
DESCRIPTION:
URL:https://saldemilio.com/event/belle-river-golf-course-comedy-night-by-the-comedy-series/
LOCATION:Belle River Golf Course\, 12564 Belle River Road\, Memphis\, Michigan
END:VEVENT
END:VCALENDAR