BEGIN:VCALENDAR
VERSION:2.0
PRODID:-//Sal Demilio - ECPv6.15.20//NONSGML v1.0//EN
CALSCALE:GREGORIAN
METHOD:PUBLISH
X-WR-CALNAME:Sal Demilio
X-ORIGINAL-URL:https://saldemilio.com
X-WR-CALDESC:Events for Sal Demilio
REFRESH-INTERVAL;VALUE=DURATION:PT1H
X-Robots-Tag:noindex
X-PUBLISHED-TTL:PT1H
BEGIN:VTIMEZONE
TZID:UTC
BEGIN:STANDARD
TZOFFSETFROM:+0000
TZOFFSETTO:+0000
TZNAME:UTC
DTSTART:20230101T000000
END:STANDARD
END:VTIMEZONE
BEGIN:VEVENT
DTSTART;TZID=UTC:20240105T190000
DTEND;TZID=UTC:20240105T233000
DTSTAMP:20260423T034255
CREATED:20231122T023330Z
LAST-MODIFIED:20231122T023330Z
UID:1366-1704481200-1704497400@saldemilio.com
SUMMARY:THE ROXY Comedy Night - Sal Demilio \, Derek Richards & Dave Landau
DESCRIPTION:
URL:https://saldemilio.com/event/the-roxy-comedy-night-sal-demilio-derek-richards-dave-landau/
LOCATION:The Roxy
END:VEVENT
BEGIN:VEVENT
DTSTART;TZID=UTC:20240106T200000
DTEND;TZID=UTC:20240106T213000
DTSTAMP:20260423T034255
CREATED:20231227T183441Z
LAST-MODIFIED:20231227T183441Z
UID:1378-1704571200-1704576600@saldemilio.com
SUMMARY:Captain Joes Comedy Club - Private Corporate Show - 8 PM
DESCRIPTION:
URL:https://saldemilio.com/event/captain-joes-comedy-club-private-corporate-show-8-pm/
LOCATION:Captain Joes Comedy Club\, 9901 Main St\, Whitmore Lake\, MI\, 48189\, United States
END:VEVENT
BEGIN:VEVENT
DTSTART;TZID=UTC:20240111T200000
DTEND;TZID=UTC:20240111T213000
DTSTAMP:20260423T034255
CREATED:20231227T183625Z
LAST-MODIFIED:20231227T183625Z
UID:1380-1705003200-1705008600@saldemilio.com
SUMMARY:The Sal & Bob Show @ Ginettis Hole In The Wall Theatre - Northville MI - 8:00 PM
DESCRIPTION:
URL:https://saldemilio.com/event/the-sal-bob-show-ginettis-hole-in-the-wall-theatre-northville-mi-800-pm/
LOCATION:Genettis Hole In The Wall\, 108 East Main Street\, Northville\, Michigan
END:VEVENT
BEGIN:VEVENT
DTSTART;TZID=UTC:20240112T210000
DTEND;TZID=UTC:20240112T223000
DTSTAMP:20260423T034255
CREATED:20240109T163010Z
LAST-MODIFIED:20240109T163010Z
UID:1384-1705093200-1705098600@saldemilio.com
SUMMARY:Unique Blue Bar & Grille - Bluffton Indiana 9 PM Show
DESCRIPTION:
URL:https://saldemilio.com/event/unique-blue-bar-grille-bluffton-indiana-9-pm-show/
LOCATION:unique bar and Grille\, 205 W Market Street\, Bluffton\, IN\, United States
END:VEVENT
BEGIN:VEVENT
DTSTART;TZID=UTC:20240113T200000
DTEND;TZID=UTC:20240113T213000
DTSTAMP:20260423T034255
CREATED:20240109T163300Z
LAST-MODIFIED:20240109T163300Z
UID:1387-1705176000-1705181400@saldemilio.com
SUMMARY:FORT WAYNE COMEDY CLUB - New Haven \, Indiana - 8 PM Show
DESCRIPTION:
URL:https://saldemilio.com/event/fort-wayne-comedy-club-new-haven-indiana-8-pm-show/
LOCATION:Fort Wayne Comedy Club\, 2104 South Calhoun Street\, Fort Wayne\, Indiana\, 46802
END:VEVENT
BEGIN:VEVENT
DTSTART;TZID=UTC:20240118T193000
DTEND;TZID=UTC:20240118T210000
DTSTAMP:20260423T034255
CREATED:20240109T163530Z
LAST-MODIFIED:20240109T163530Z
UID:1389-1705606200-1705611600@saldemilio.com
SUMMARY:ONE NIGHT STANS COMEDY CLUB - Open Mic Night - 7:30 PM
DESCRIPTION:
URL:https://saldemilio.com/event/one-night-stans-comedy-club-open-mic-night-730-pm/
LOCATION:One Night Stans Comedy Club\, 4761 Highland Road\, Waterford\, Michigan
END:VEVENT
BEGIN:VEVENT
DTSTART;TZID=UTC:20240119T200000
DTEND;TZID=UTC:20240119T213000
DTSTAMP:20260423T034255
CREATED:20240109T163954Z
LAST-MODIFIED:20240109T163954Z
UID:1391-1705694400-1705699800@saldemilio.com
SUMMARY:FENTON FASTPITCH COMEDY FUNDRAISER - Sam's  Italian Restaurant - Grand Blanc
DESCRIPTION:
URL:https://saldemilio.com/event/fenton-fastpitch-comedy-fundraiser-sams-italian-restaurant-grand-blanc/
LOCATION:Sams Italian Restaraunt\, 4105 W. Grand Blanc Road\, Grand Blanc\, MI\, 48473\, United States
END:VEVENT
BEGIN:VEVENT
DTSTART;TZID=UTC:20240120T200000
DTEND;TZID=UTC:20240120T213000
DTSTAMP:20260423T034255
CREATED:20240109T164531Z
LAST-MODIFIED:20240109T164531Z
UID:1395-1705780800-1705786200@saldemilio.com
SUMMARY:The Comedy Series - The Northern Center \, Houghton Lake MI 8 PM Show
DESCRIPTION:
URL:https://saldemilio.com/event/the-comedy-series-the-northern-center-houghton-lake-mi-8-pm-show/
LOCATION:Northern Center\, 7784 Stone School Road\, Houghton Lake\, MI\, 48629\, United States
END:VEVENT
BEGIN:VEVENT
DTSTART;TZID=UTC:20240125T200000
DTEND;TZID=UTC:20240125T213000
DTSTAMP:20260423T034255
CREATED:20240109T165240Z
LAST-MODIFIED:20240109T165240Z
UID:1398-1706212800-1706218200@saldemilio.com
SUMMARY:Motown Mark Comedy Fundraiser : South Lyon Hotel - 8 PM Show
DESCRIPTION:
URL:https://saldemilio.com/event/motown-mark-comedy-fundraiser-south-lyon-hotel-8-pm-show/
LOCATION:South Lyon Hotel\, 201 N Lafayette Street\, South Lyon\, MI\, United States
END:VEVENT
BEGIN:VEVENT
DTSTART;TZID=UTC:20240126T203000
DTEND;TZID=UTC:20240126T220000
DTSTAMP:20260423T034255
CREATED:20240109T165457Z
LAST-MODIFIED:20240109T165457Z
UID:1401-1706301000-1706306400@saldemilio.com
SUMMARY:SAL & BOB SHOWCASE SHOW - Captain Joes Grille - Whitmore Lake MI - 8:30 PM
DESCRIPTION:
URL:https://saldemilio.com/event/sal-bob-showcase-show-captain-joes-grille-whitmore-lake-mi-830-pm/
LOCATION:Captain Joes Comedy Club\, 9901 Main St\, Whitmore Lake\, MI\, 48189\, United States
END:VEVENT
BEGIN:VEVENT
DTSTART;TZID=UTC:20240127T200000
DTEND;TZID=UTC:20240127T213000
DTSTAMP:20260423T034255
CREATED:20240109T165828Z
LAST-MODIFIED:20240109T165828Z
UID:1403-1706385600-1706391000@saldemilio.com
SUMMARY:Comedy Fundraiser - Crystal Occasions - Clio Michigan - 8 PM Show
DESCRIPTION:
URL:https://saldemilio.com/event/comedy-fundraiser-crystal-occasions-clio-michigan-8-pm-show/
LOCATION:Crystal Occasions\, 3289 Field Road\, Clio\, MI\, 48420\, United States
END:VEVENT
END:VCALENDAR