BEGIN:VCALENDAR
VERSION:2.0
PRODID:-//Sal Demilio - ECPv6.15.20//NONSGML v1.0//EN
CALSCALE:GREGORIAN
METHOD:PUBLISH
X-WR-CALNAME:Sal Demilio
X-ORIGINAL-URL:https://saldemilio.com
X-WR-CALDESC:Events for Sal Demilio
REFRESH-INTERVAL;VALUE=DURATION:PT1H
X-Robots-Tag:noindex
X-PUBLISHED-TTL:PT1H
BEGIN:VTIMEZONE
TZID:UTC
BEGIN:STANDARD
TZOFFSETFROM:+0000
TZOFFSETTO:+0000
TZNAME:UTC
DTSTART:20230101T000000
END:STANDARD
END:VTIMEZONE
BEGIN:VEVENT
DTSTART;TZID=UTC:20241002T190000
DTEND;TZID=UTC:20241002T203000
DTSTAMP:20260422T120902
CREATED:20240820T185517Z
LAST-MODIFIED:20240820T185517Z
UID:1614-1727895600-1727901000@saldemilio.com
SUMMARY:PRIVATE CORPORATE SHOW - Howell Michigan
DESCRIPTION:
URL:https://saldemilio.com/event/private-corporate-show-howell-michigan/
LOCATION:Michigan
END:VEVENT
BEGIN:VEVENT
DTSTART;TZID=UTC:20241004T190000
DTEND;TZID=UTC:20241004T203000
DTSTAMP:20260422T120902
CREATED:20240820T185615Z
LAST-MODIFIED:20240820T185615Z
UID:1616-1728068400-1728073800@saldemilio.com
SUMMARY:Corporate Comedy Show - Columbus Ohio
DESCRIPTION:
URL:https://saldemilio.com/event/corporate-comedy-show-columbus-ohio/
LOCATION:Michigan
END:VEVENT
BEGIN:VEVENT
DTSTART;TZID=UTC:20241005T200000
DTEND;TZID=UTC:20241005T213000
DTSTAMP:20260422T120902
CREATED:20240820T185718Z
LAST-MODIFIED:20240820T185718Z
UID:1618-1728158400-1728163800@saldemilio.com
SUMMARY:Laughter Machine Fundraiser Show - Monroe Michigan
DESCRIPTION:
URL:https://saldemilio.com/event/laughter-machine-fundraiser-show-monroe-michigan/
LOCATION:Michigan
END:VEVENT
BEGIN:VEVENT
DTSTART;TZID=UTC:20241010T190000
DTEND;TZID=UTC:20241010T220000
DTSTAMP:20260422T120903
CREATED:20240820T185905Z
LAST-MODIFIED:20240820T185905Z
UID:1620-1728586800-1728597600@saldemilio.com
SUMMARY:SAL & BOB LIVE Comedy Show - Genetties Hole In The Wall Theater
DESCRIPTION:
URL:https://saldemilio.com/event/sal-bob-live-comedy-show-genetties-hole-in-the-wall-theater/
LOCATION:Genettis Hole In The Wall\, 108 East Main Street\, Northville\, Michigan
END:VEVENT
BEGIN:VEVENT
DTSTART;TZID=UTC:20241012T200000
DTEND;TZID=UTC:20241012T213000
DTSTAMP:20260422T120903
CREATED:20240820T190403Z
LAST-MODIFIED:20240820T190403Z
UID:1622-1728763200-1728768600@saldemilio.com
SUMMARY:Comedy For Cancer Show - Mount Clemons Michigan - 8:00 PM
DESCRIPTION:
URL:https://saldemilio.com/event/comedy-for-cancer-show-mount-clemons-michigan-800-pm/
LOCATION:Michigan
END:VEVENT
BEGIN:VEVENT
DTSTART;TZID=UTC:20241017T200000
DTEND;TZID=UTC:20241017T213000
DTSTAMP:20260422T120903
CREATED:20240820T191456Z
LAST-MODIFIED:20240820T191456Z
UID:1625-1729195200-1729200600@saldemilio.com
SUMMARY:Corporate Comedy Show For The Livingston County Republican Party - 8 PM Show - Howell MI
DESCRIPTION:
URL:https://saldemilio.com/event/corporate-comedy-show-for-the-livingston-county-republican-party-8-pm-show-howell-mi/
LOCATION:Michigan
END:VEVENT
BEGIN:VEVENT
DTSTART;TZID=UTC:20241019T200000
DTEND;TZID=UTC:20241019T213000
DTSTAMP:20260422T120903
CREATED:20240820T191828Z
LAST-MODIFIED:20240820T191828Z
UID:1627-1729368000-1729373400@saldemilio.com
SUMMARY:Laughter Machine Comedy Show - Great Lakes Steel Boat Club - 8 PM
DESCRIPTION:
URL:https://saldemilio.com/event/laughter-machine-comedy-show-great-lakes-steel-boat-club-8-pm/
LOCATION:Great Lakes Steel Boat Club\, 530 E Great Lakes Street\, River Rouge\, MI\, 48218\, United States
END:VEVENT
BEGIN:VEVENT
DTSTART;TZID=UTC:20241024T190000
DTEND;TZID=UTC:20241024T203000
DTSTAMP:20260422T120903
CREATED:20240820T192208Z
LAST-MODIFIED:20240820T192208Z
UID:1630-1729796400-1729801800@saldemilio.com
SUMMARY:Red Bird Bistro Comedy show W / SAL DEMILIO - Cedar Springs Michigan - 7 PM Show
DESCRIPTION:
URL:https://saldemilio.com/event/red-bird-bistro-comedy-show-w-sal-demilio-cedar-springs-michigan-7-pm-show/
LOCATION:The Red Bird Bistro\, 22 N Main Street\, Cedar Springs\, MI\, 49319\, United States
END:VEVENT
BEGIN:VEVENT
DTSTART;TZID=UTC:20241025T190000
DTEND;TZID=UTC:20241025T220000
DTSTAMP:20260422T120903
CREATED:20240820T192335Z
LAST-MODIFIED:20240820T192335Z
UID:1632-1729882800-1729893600@saldemilio.com
SUMMARY:SAL & BOB Live Comedy show At Captain Joes - Whitmore Lake \, Michigan
DESCRIPTION:
URL:https://saldemilio.com/event/sal-bob-live-comedy-show-at-captain-joes-whitmore-lake-michigan/
LOCATION:Genettis Hole In The Wall\, 108 East Main Street\, Northville\, Michigan
END:VEVENT
BEGIN:VEVENT
DTSTART;TZID=UTC:20241026T200000
DTEND;TZID=UTC:20241026T213000
DTSTAMP:20260422T120903
CREATED:20240822T175035Z
LAST-MODIFIED:20240822T175035Z
UID:1634-1729972800-1729978200@saldemilio.com
SUMMARY:PRIVATE CORPORATE FUNDRAISER - Captain Joes - Whitmore Lake \, MI
DESCRIPTION:p
URL:https://saldemilio.com/event/private-corporate-fundraiser-captain-joes-whitmore-lake-mi/
LOCATION:Captain Joes Comedy Club\, 9901 Main St\, Whitmore Lake\, MI\, 48189\, United States
END:VEVENT
END:VCALENDAR