BEGIN:VCALENDAR
VERSION:2.0
PRODID:-//Sal Demilio - ECPv6.15.20//NONSGML v1.0//EN
CALSCALE:GREGORIAN
METHOD:PUBLISH
X-ORIGINAL-URL:https://saldemilio.com
X-WR-CALDESC:Events for Sal Demilio
REFRESH-INTERVAL;VALUE=DURATION:PT1H
X-Robots-Tag:noindex
X-PUBLISHED-TTL:PT1H
BEGIN:VTIMEZONE
TZID:UTC
BEGIN:STANDARD
TZOFFSETFROM:+0000
TZOFFSETTO:+0000
TZNAME:UTC
DTSTART:20230101T000000
END:STANDARD
END:VTIMEZONE
BEGIN:VEVENT
DTSTART;TZID=UTC:20241101T080000
DTEND;TZID=UTC:20241101T170000
DTSTAMP:20260422T102531
CREATED:20240822T175711Z
LAST-MODIFIED:20240822T175711Z
UID:1636-1730448000-1730480400@saldemilio.com
SUMMARY:THE RUSSELL THEATRE - Lebanon \, Virginia - Headlining One Show @ 8:00 PM
DESCRIPTION:
URL:https://saldemilio.com/event/the-russell-theatre-lebanon-virginia-headlining-one-show-800-pm/
LOCATION:The Russell Theatre\, 112 West Main Street\, Lebanon\, VA\, 24266\, United States
END:VEVENT
BEGIN:VEVENT
DTSTART;TZID=UTC:20241102T200000
DTEND;TZID=UTC:20241102T213000
DTSTAMP:20260422T102531
CREATED:20240822T181805Z
LAST-MODIFIED:20240822T181805Z
UID:1639-1730577600-1730583000@saldemilio.com
SUMMARY:Fraternal Order Howell Eagles Comedy Show - Howell MI
DESCRIPTION:
URL:https://saldemilio.com/event/fraternal-order-howell-eagles-comedy-show-howell-mi/
LOCATION:Howell Eagles Club\, 141 Schroeder Park\, Howell\, MI\, 48843\, United States
END:VEVENT
BEGIN:VEVENT
DTSTART;TZID=UTC:20241108T200000
DTEND;TZID=UTC:20241108T213000
DTSTAMP:20260422T102531
CREATED:20241108T143437Z
LAST-MODIFIED:20241108T143437Z
UID:1644-1731096000-1731101400@saldemilio.com
SUMMARY:THE UNDERGROUND LAUGH LOUNGE - Niles Michigan - 8 PM
DESCRIPTION:
URL:https://saldemilio.com/event/the-underground-laugh-lounge-niles-michigan-8-pm/
LOCATION:Underground Laugh Lounge\, 321 E Main Street\, Niles\, MI\, 49120\, United States
END:VEVENT
BEGIN:VEVENT
DTSTART;TZID=UTC:20241109T200000
DTEND;TZID=UTC:20241109T213000
DTSTAMP:20260422T102531
CREATED:20241108T143816Z
LAST-MODIFIED:20241108T143816Z
UID:1646-1731182400-1731187800@saldemilio.com
SUMMARY:THE UNDERGROUND LAUGH LOUNGE - Niles Michigan - 8 PM Show
DESCRIPTION:
URL:https://saldemilio.com/event/the-underground-laugh-lounge-niles-michigan-8-pm-show/
LOCATION:The Underground Laugh Lounge\, 321 E Main Street\, Niles\, MI\, 49120\, United States
END:VEVENT
BEGIN:VEVENT
DTSTART;TZID=UTC:20241114T200000
DTEND;TZID=UTC:20241114T213000
DTSTAMP:20260422T102531
CREATED:20241108T144235Z
LAST-MODIFIED:20241108T144235Z
UID:1649-1731614400-1731619800@saldemilio.com
SUMMARY:ANDIAMOS COMEDY NIGHT - Warren\, Michigan - 8 PM Show
DESCRIPTION:
URL:https://saldemilio.com/event/andiamos-comedy-night-warren-michigan-8-pm-show/
LOCATION:ANDIAMOS\, 7096 E 14 Mile Road\, Warren\, MI\, 48092\, United States
END:VEVENT
BEGIN:VEVENT
DTSTART;TZID=UTC:20241116T200000
DTEND;TZID=UTC:20241116T213000
DTSTAMP:20260422T102531
CREATED:20241108T144652Z
LAST-MODIFIED:20241108T144652Z
UID:1652-1731787200-1731792600@saldemilio.com
SUMMARY:SAL & BOB Live At The Michigan Theatre Of Jackson - Jackson Michigan - 8 PM Show
DESCRIPTION:
URL:https://saldemilio.com/event/sal-bob-live-at-the-michigan-theatre-of-jackson-jackson-michigan-8-pm-show/
LOCATION:The Michigan Theatre Of Jackson\, 124 N Mechanic Street\, Jackson\, MI\, 49210\, United States
END:VEVENT
END:VCALENDAR