BEGIN:VCALENDAR
VERSION:2.0
PRODID:-//Sal Demilio - ECPv6.15.20//NONSGML v1.0//EN
CALSCALE:GREGORIAN
METHOD:PUBLISH
X-ORIGINAL-URL:https://saldemilio.com
X-WR-CALDESC:Events for Sal Demilio
REFRESH-INTERVAL;VALUE=DURATION:PT1H
X-Robots-Tag:noindex
X-PUBLISHED-TTL:PT1H
BEGIN:VTIMEZONE
TZID:UTC
BEGIN:STANDARD
TZOFFSETFROM:+0000
TZOFFSETTO:+0000
TZNAME:UTC
DTSTART:20240101T000000
END:STANDARD
END:VTIMEZONE
BEGIN:VEVENT
DTSTART;TZID=UTC:20250402T200000
DTEND;TZID=UTC:20250402T203000
DTSTAMP:20260422T013430
CREATED:20250305T004525Z
LAST-MODIFIED:20250305T004525Z
UID:1760-1743624000-1743625800@saldemilio.com
SUMMARY:Carnival Cruise Spirit - Columbia
DESCRIPTION:
URL:https://saldemilio.com/event/carnival-cruise-spirit-columbia-4/
LOCATION:Carnival Cruise Spirit
END:VEVENT
BEGIN:VEVENT
DTSTART;TZID=UTC:20250403T200000
DTEND;TZID=UTC:20250403T203000
DTSTAMP:20260422T013430
CREATED:20250305T004006Z
LAST-MODIFIED:20250305T004006Z
UID:1753-1743710400-1743712200@saldemilio.com
SUMMARY:Carnival Cruise Spirit - Columbia
DESCRIPTION:
URL:https://saldemilio.com/event/carnival-cruise-spirit-columbia/
LOCATION:Carnival Cruise Spirit
END:VEVENT
BEGIN:VEVENT
DTSTART;TZID=UTC:20250404T080000
DTEND;TZID=UTC:20250404T170000
DTSTAMP:20260422T013430
CREATED:20250305T004109Z
LAST-MODIFIED:20250305T004109Z
UID:1755-1743753600-1743786000@saldemilio.com
SUMMARY:Carnival Cruise Spirit - Columbia
DESCRIPTION:
URL:https://saldemilio.com/event/carnival-cruise-spirit-columbia-2/
LOCATION:Michigan
END:VEVENT
BEGIN:VEVENT
DTSTART;TZID=UTC:20250405T080000
DTEND;TZID=UTC:20250405T170000
DTSTAMP:20260422T013430
CREATED:20250305T004214Z
LAST-MODIFIED:20250305T004214Z
UID:1758-1743840000-1743872400@saldemilio.com
SUMMARY:Carnival Cruise Spirit - Columbia
DESCRIPTION:
URL:https://saldemilio.com/event/carnival-cruise-spirit-columbia-3/
LOCATION:Michigan
END:VEVENT
BEGIN:VEVENT
DTSTART;TZID=UTC:20250406T200000
DTEND;TZID=UTC:20250406T203000
DTSTAMP:20260422T013430
CREATED:20250305T004656Z
LAST-MODIFIED:20250305T004656Z
UID:1763-1743969600-1743971400@saldemilio.com
SUMMARY:Carnival Cruise Spirit - Columbia
DESCRIPTION:
URL:https://saldemilio.com/event/carnival-cruise-spirit-columbia-5/
LOCATION:Carnival Cruise Spirit
END:VEVENT
BEGIN:VEVENT
DTSTART;TZID=UTC:20250407T200000
DTEND;TZID=UTC:20250407T203000
DTSTAMP:20260422T013430
CREATED:20250305T004819Z
LAST-MODIFIED:20250305T004819Z
UID:1765-1744056000-1744057800@saldemilio.com
SUMMARY:Carnival Cruise Spirit - Columbia
DESCRIPTION:
URL:https://saldemilio.com/event/carnival-cruise-spirit-columbia-6/
LOCATION:Carnival Cruise Spirit
END:VEVENT
BEGIN:VEVENT
DTSTART;TZID=UTC:20250408T200000
DTEND;TZID=UTC:20250408T203000
DTSTAMP:20260422T013430
CREATED:20250305T004946Z
LAST-MODIFIED:20250305T004946Z
UID:1767-1744142400-1744144200@saldemilio.com
SUMMARY:Carnival Cruise Spirit - Columbia
DESCRIPTION:
URL:https://saldemilio.com/event/carnival-cruise-spirit-columbia-7/
LOCATION:Carnival Cruise Spirit
END:VEVENT
BEGIN:VEVENT
DTSTART;TZID=UTC:20250411T203000
DTEND;TZID=UTC:20250411T220000
DTSTAMP:20260422T013430
CREATED:20250305T005202Z
LAST-MODIFIED:20250305T005202Z
UID:1769-1744403400-1744408800@saldemilio.com
SUMMARY:SAL & BOB @ CAPTAIN JOES - Whitmore Lake \, MI
DESCRIPTION:
URL:https://saldemilio.com/event/sal-bob-captain-joes-whitmore-lake-mi/
LOCATION:Captain Joes Comedy Club\, 9901 Main St\, Whitmore Lake\, MI\, 48189\, United States
END:VEVENT
BEGIN:VEVENT
DTSTART;TZID=UTC:20250412T200000
DTEND;TZID=UTC:20250412T213000
DTSTAMP:20260422T013430
CREATED:20250305T021404Z
LAST-MODIFIED:20250305T021404Z
UID:1773-1744488000-1744493400@saldemilio.com
SUMMARY:Corporate Show - Cleveland Ohio - 8 PM Show
DESCRIPTION:
URL:https://saldemilio.com/event/corporate-show-cleveland-ohio-8-pm-show/
LOCATION:Michigan
END:VEVENT
BEGIN:VEVENT
DTSTART;TZID=UTC:20250424T190000
DTEND;TZID=UTC:20250424T213000
DTSTAMP:20260422T013430
CREATED:20250305T022311Z
LAST-MODIFIED:20250305T022311Z
UID:1778-1745521200-1745530200@saldemilio.com
SUMMARY:Sal & Bob @ Ginetties Hole In The Wall Theatre - 7:00 PM Dinner & Show
DESCRIPTION:
URL:https://saldemilio.com/event/sal-bob-ginetties-hole-in-the-wall-theatre-700-pm-dinner-show/
LOCATION:Genettis Hole In The Wall\, 108 East Main Street\, Northville\, Michigan
END:VEVENT
BEGIN:VEVENT
DTSTART;TZID=UTC:20250425T200000
DTEND;TZID=UTC:20250425T210000
DTSTAMP:20260422T013430
CREATED:20250422T222418Z
LAST-MODIFIED:20250422T222418Z
UID:1784-1745611200-1745614800@saldemilio.com
SUMMARY:Landmark Inn - Marquette MI CORPORATE SHOW
DESCRIPTION:
URL:https://saldemilio.com/event/landmark-inn-marquette-mi-corporate-show/
LOCATION:Landmark Inn
END:VEVENT
BEGIN:VEVENT
DTSTART;TZID=UTC:20250426T210000
DTEND;TZID=UTC:20250426T223000
DTSTAMP:20260422T013430
CREATED:20250305T022007Z
LAST-MODIFIED:20250305T022007Z
UID:1775-1745701200-1745706600@saldemilio.com
SUMMARY:Dubh Linn Brew Pub - Duluth MN  - 9:00 PM
DESCRIPTION:
URL:https://saldemilio.com/event/dubh-linn-brew-pub-duluth-mn-900-pm/
LOCATION:Dubh Linn Irish Pub\, 109 W Superior Street\, Duluth\, MN\, 55802\, United States
END:VEVENT
END:VCALENDAR