BEGIN:VCALENDAR
VERSION:2.0
PRODID:-//Sal Demilio - ECPv6.15.20//NONSGML v1.0//EN
CALSCALE:GREGORIAN
METHOD:PUBLISH
X-ORIGINAL-URL:https://saldemilio.com
X-WR-CALDESC:Events for Sal Demilio
REFRESH-INTERVAL;VALUE=DURATION:PT1H
X-Robots-Tag:noindex
X-PUBLISHED-TTL:PT1H
BEGIN:VTIMEZONE
TZID:UTC
BEGIN:STANDARD
TZOFFSETFROM:+0000
TZOFFSETTO:+0000
TZNAME:UTC
DTSTART:20240101T000000
END:STANDARD
END:VTIMEZONE
BEGIN:VEVENT
DTSTART;TZID=UTC:20250605T190000
DTEND;TZID=UTC:20250605T203000
DTSTAMP:20260421T223416
CREATED:20250603T231500Z
LAST-MODIFIED:20250603T231500Z
UID:1811-1749150000-1749155400@saldemilio.com
SUMMARY:Whiskey Creek Comedy Night - Sal Demilio @ 7:00 PM     $20
DESCRIPTION:
URL:https://saldemilio.com/event/whiskey-creek-comedy-night-sal-demilio-700-pm-20/
LOCATION:Whiskey Creek\, 230 S Third Street\, Burr Oak\, MI\, United States
END:VEVENT
BEGIN:VEVENT
DTSTART;TZID=UTC:20250607T193000
DTEND;TZID=UTC:20250607T210000
DTSTAMP:20260421T223416
CREATED:20250603T231747Z
LAST-MODIFIED:20250603T231747Z
UID:1814-1749324600-1749330000@saldemilio.com
SUMMARY:Lincoln Hills Golf Club - Sal Demilio & Mark Knope - 7:30 PM
DESCRIPTION:
URL:https://saldemilio.com/event/lincoln-hills-golf-club-sal-demilio-mark-knope-730-pm/
LOCATION:Lincoln Hills Golf Club\, 1527 N Lakeshore Drive\, Luddington\, MI\, United States
END:VEVENT
BEGIN:VEVENT
DTSTART;TZID=UTC:20250612T200000
DTEND;TZID=UTC:20250612T210000
DTSTAMP:20260421T223416
CREATED:20250603T231957Z
LAST-MODIFIED:20250603T231957Z
UID:1817-1749758400-1749762000@saldemilio.com
SUMMARY:Carnival Miracle - Germany
DESCRIPTION:
URL:https://saldemilio.com/event/carnival-miracle-germany/
LOCATION:Carnival Miracle
END:VEVENT
BEGIN:VEVENT
DTSTART;TZID=UTC:20250613T200000
DTEND;TZID=UTC:20250613T210000
DTSTAMP:20260421T223416
CREATED:20250603T232107Z
LAST-MODIFIED:20250603T232107Z
UID:1820-1749844800-1749848400@saldemilio.com
SUMMARY:Carnival Miracle
DESCRIPTION:
URL:https://saldemilio.com/event/carnival-miracle/
LOCATION:Carnival Miracle
END:VEVENT
BEGIN:VEVENT
DTSTART;TZID=UTC:20250614T200000
DTEND;TZID=UTC:20250614T210000
DTSTAMP:20260421T223416
CREATED:20250603T232200Z
LAST-MODIFIED:20250603T232200Z
UID:1822-1749931200-1749934800@saldemilio.com
SUMMARY:Carnival Miracle
DESCRIPTION:
URL:https://saldemilio.com/event/carnival-miracle-2/
LOCATION:Carnival Miracle
END:VEVENT
BEGIN:VEVENT
DTSTART;TZID=UTC:20250615T200000
DTEND;TZID=UTC:20250615T210000
DTSTAMP:20260421T223416
CREATED:20250603T232256Z
LAST-MODIFIED:20250603T232256Z
UID:1824-1750017600-1750021200@saldemilio.com
SUMMARY:Carnival Miracle
DESCRIPTION:
URL:https://saldemilio.com/event/carnival-miracle-3/
LOCATION:Carnival Miracle
END:VEVENT
BEGIN:VEVENT
DTSTART;TZID=UTC:20250616T200000
DTEND;TZID=UTC:20250616T210000
DTSTAMP:20260421T223416
CREATED:20250603T232400Z
LAST-MODIFIED:20250603T232400Z
UID:1826-1750104000-1750107600@saldemilio.com
SUMMARY:Carnival Miracle
DESCRIPTION:
URL:https://saldemilio.com/event/carnival-miracle-4/
LOCATION:Carnival Miracle
END:VEVENT
BEGIN:VEVENT
DTSTART;TZID=UTC:20250617T200000
DTEND;TZID=UTC:20250617T210000
DTSTAMP:20260421T223416
CREATED:20250603T232607Z
LAST-MODIFIED:20250603T232607Z
UID:1828-1750190400-1750194000@saldemilio.com
SUMMARY:Carnival Miracle
DESCRIPTION:
URL:https://saldemilio.com/event/carnival-miracle-5/
LOCATION:Carnival Miracle
END:VEVENT
BEGIN:VEVENT
DTSTART;TZID=UTC:20250618T200000
DTEND;TZID=UTC:20250618T210000
DTSTAMP:20260421T223416
CREATED:20250603T232702Z
LAST-MODIFIED:20250603T232702Z
UID:1830-1750276800-1750280400@saldemilio.com
SUMMARY:Carnival Miracle
DESCRIPTION:
URL:https://saldemilio.com/event/carnival-miracle-6/
LOCATION:Carnival Miracle
END:VEVENT
BEGIN:VEVENT
DTSTART;TZID=UTC:20250619T080000
DTEND;TZID=UTC:20250619T170000
DTSTAMP:20260421T223416
CREATED:20250603T233140Z
LAST-MODIFIED:20250603T233140Z
UID:1836-1750320000-1750352400@saldemilio.com
SUMMARY:Sal & Bob Live At Genittis Whole In The Wall Theatre - 7:00 PM Dinner & Show
DESCRIPTION:
URL:https://saldemilio.com/event/sal-bob-live-at-genittis-whole-in-the-wall-theatre-700-pm-dinner-show/
LOCATION:Genettis Hole In The Wall\, 108 East Main Street\, Northville\, Michigan
END:VEVENT
BEGIN:VEVENT
DTSTART;TZID=UTC:20250619T200000
DTEND;TZID=UTC:20250619T210000
DTSTAMP:20260421T223416
CREATED:20250603T232751Z
LAST-MODIFIED:20250603T232751Z
UID:1832-1750363200-1750366800@saldemilio.com
SUMMARY:Carnival Miracle
DESCRIPTION:
URL:https://saldemilio.com/event/carnival-miracle-7/
LOCATION:Carnival Miracle
END:VEVENT
BEGIN:VEVENT
DTSTART;TZID=UTC:20250620T200000
DTEND;TZID=UTC:20250620T210000
DTSTAMP:20260421T223416
CREATED:20250603T232849Z
LAST-MODIFIED:20250603T232849Z
UID:1834-1750449600-1750453200@saldemilio.com
SUMMARY:Carnival Miracle
DESCRIPTION:
URL:https://saldemilio.com/event/carnival-miracle-8/
LOCATION:Carnival Miracle
END:VEVENT
BEGIN:VEVENT
DTSTART;TZID=UTC:20250621T200000
DTEND;TZID=UTC:20250621T213000
DTSTAMP:20260421T223416
CREATED:20250604T000014Z
LAST-MODIFIED:20250604T000014Z
UID:1841-1750536000-1750541400@saldemilio.com
SUMMARY:Comedy Night Marrysville Michigan   Comedian Company 8:00 PM
DESCRIPTION:
URL:https://saldemilio.com/event/comedy-night-marrysville-michigan-comedian-company-800-pm/
LOCATION:Michigan
END:VEVENT
BEGIN:VEVENT
DTSTART;TZID=UTC:20250626T183000
DTEND;TZID=UTC:20250626T213000
DTSTAMP:20260421T223416
CREATED:20250603T233318Z
LAST-MODIFIED:20250603T233318Z
UID:1838-1750962600-1750973400@saldemilio.com
SUMMARY:Sal & Bob Live Comedy Show @ Captain Joes Grille - Whitmore Lake MI - 6:30 PM Dinner & Show
DESCRIPTION:
URL:https://saldemilio.com/event/sal-bob-live-comedy-show-captain-joes-grille-whitmore-lake-mi-630-pm-dinner-show/
LOCATION:Captain Joes Comedy Club\, 9901 Main St\, Whitmore Lake\, MI\, 48189\, United States
END:VEVENT
END:VCALENDAR