BEGIN:VCALENDAR
VERSION:2.0
PRODID:-//Sal Demilio - ECPv6.15.20//NONSGML v1.0//EN
CALSCALE:GREGORIAN
METHOD:PUBLISH
X-WR-CALNAME:Sal Demilio
X-ORIGINAL-URL:https://saldemilio.com
X-WR-CALDESC:Events for Sal Demilio
REFRESH-INTERVAL;VALUE=DURATION:PT1H
X-Robots-Tag:noindex
X-PUBLISHED-TTL:PT1H
BEGIN:VTIMEZONE
TZID:UTC
BEGIN:STANDARD
TZOFFSETFROM:+0000
TZOFFSETTO:+0000
TZNAME:UTC
DTSTART:20240101T000000
END:STANDARD
END:VTIMEZONE
BEGIN:VEVENT
DTSTART;TZID=UTC:20250717T200000
DTEND;TZID=UTC:20250717T213000
DTSTAMP:20260421T205236
CREATED:20250604T000325Z
LAST-MODIFIED:20250604T000325Z
UID:1843-1752782400-1752787800@saldemilio.com
SUMMARY:Funnystop Comedy Club - Cuyahoga Falls OH -
DESCRIPTION:
URL:https://saldemilio.com/event/funnystop-comedy-club-cuyahoga-falls-oh/
LOCATION:funny stop comedy club
END:VEVENT
BEGIN:VEVENT
DTSTART;TZID=UTC:20250718T193000
DTEND;TZID=UTC:20250718T230000
DTSTAMP:20260421T205236
CREATED:20250604T000529Z
LAST-MODIFIED:20250604T000529Z
UID:1845-1752867000-1752879600@saldemilio.com
SUMMARY:Funnystop Comedy Club - Cuyahoga Falls Ohio - 7:30 PM & 9:30 PM Shows
DESCRIPTION:
URL:https://saldemilio.com/event/funnystop-comedy-club-cuyahoga-falls-ohio-730-pm-930-pm-shows/
LOCATION:funny stop comedy club
END:VEVENT
BEGIN:VEVENT
DTSTART;TZID=UTC:20250719T193000
DTEND;TZID=UTC:20250719T230000
DTSTAMP:20260421T205236
CREATED:20250604T000737Z
LAST-MODIFIED:20250604T000737Z
UID:1847-1752953400-1752966000@saldemilio.com
SUMMARY:Funnystop Comedy Club - Cuyahoga Falls Ohio - 7:30 & 9:30 PM Shows
DESCRIPTION:
URL:https://saldemilio.com/event/funnystop-comedy-club-cuyahoga-falls-ohio-730-930-pm-shows/
LOCATION:funny stop comedy club
END:VEVENT
BEGIN:VEVENT
DTSTART;TZID=UTC:20250724T190000
DTEND;TZID=UTC:20250724T203000
DTSTAMP:20260421T205236
CREATED:20250604T001104Z
LAST-MODIFIED:20250604T001104Z
UID:1849-1753383600-1753389000@saldemilio.com
SUMMARY:Sal & Bob Live Comedy Show @ Genittis Whole In The Wall Theatre - 7:00 PM Dinner / Show
DESCRIPTION:
URL:https://saldemilio.com/event/sal-bob-live-comedy-show-genittis-whole-in-the-wall-theatre-700-pm-dinner-show/
LOCATION:Genettis Hole In The Wall\, 108 East Main Street\, Northville\, Michigan
END:VEVENT
BEGIN:VEVENT
DTSTART;TZID=UTC:20250726T173000
DTEND;TZID=UTC:20250726T213000
DTSTAMP:20260421T205236
CREATED:20250604T001552Z
LAST-MODIFIED:20250604T001552Z
UID:1851-1753551000-1753565400@saldemilio.com
SUMMARY:Canton Brew Works Comedy Show - Sal Demilio - 5 - 8 PM Dinner / Show Starts At 8 PM
DESCRIPTION:
URL:https://saldemilio.com/event/canton-brew-works-comedy-show-sal-demilio-5-8-pm-dinner-show-starts-at-8-pm/
LOCATION:Canton Brew Works\, 8521 N Lilley Road\, Canton\, MI\, United States
END:VEVENT
BEGIN:VEVENT
DTSTART;TZID=UTC:20250731T080000
DTEND;TZID=UTC:20250731T170000
DTSTAMP:20260421T205236
CREATED:20250604T001724Z
LAST-MODIFIED:20250604T001724Z
UID:1854-1753948800-1753981200@saldemilio.com
SUMMARY:Sal & Bob Live Comedy Show @ Captain Joes  Whitmore Lake - 6:30 PM Dinner / Show At 8 PM
DESCRIPTION:
URL:https://saldemilio.com/event/sal-bob-live-comedy-show-captain-joes-whitmore-lake-630-pm-dinner-show-at-8-pm/
LOCATION:Captain Joes Comedy Club\, 9901 Main St\, Whitmore Lake\, MI\, 48189\, United States
END:VEVENT
END:VCALENDAR