BEGIN:VCALENDAR
VERSION:2.0
PRODID:-//Sal Demilio - ECPv6.15.20//NONSGML v1.0//EN
CALSCALE:GREGORIAN
METHOD:PUBLISH
X-WR-CALNAME:Sal Demilio
X-ORIGINAL-URL:https://saldemilio.com
X-WR-CALDESC:Events for Sal Demilio
REFRESH-INTERVAL;VALUE=DURATION:PT1H
X-Robots-Tag:noindex
X-PUBLISHED-TTL:PT1H
BEGIN:VTIMEZONE
TZID:UTC
BEGIN:STANDARD
TZOFFSETFROM:+0000
TZOFFSETTO:+0000
TZNAME:UTC
DTSTART:20240101T000000
END:STANDARD
END:VTIMEZONE
BEGIN:VEVENT
DTSTART;TZID=UTC:20250801T190000
DTEND;TZID=UTC:20250801T203000
DTSTAMP:20260421T191110
CREATED:20250723T162548Z
LAST-MODIFIED:20250723T162548Z
UID:1859-1754074800-1754080200@saldemilio.com
SUMMARY:Detroit House Of Comedy - With Vic DiBitetto - 7:00 PM Show
DESCRIPTION:
URL:https://saldemilio.com/event/detroit-house-of-comedy-with-vic-dibitetto-700-pm-show/
LOCATION:Detroit House Of Comedy\, 2301 Woodward Avenue\, Detroit\, MI\, 48201\, United States
END:VEVENT
BEGIN:VEVENT
DTSTART;TZID=UTC:20250802T190000
DTEND;TZID=UTC:20250802T230000
DTSTAMP:20260421T191110
CREATED:20250723T163059Z
LAST-MODIFIED:20250723T163059Z
UID:1862-1754161200-1754175600@saldemilio.com
SUMMARY:Detroit House Of Comedy Detroit - With Vic Dibitetto - 7:00 PM & 9:30 PM
DESCRIPTION:
URL:https://saldemilio.com/event/detroit-house-of-comedy-detroit-with-vic-dibitetto-700-pm-930-pm/
LOCATION:Detroit House Of Comedy\, 2301 Woodward Avenue\, Detroit\, MI\, 48201\, United States
END:VEVENT
BEGIN:VEVENT
DTSTART;TZID=UTC:20250809T180000
DTEND;TZID=UTC:20250809T210000
DTSTAMP:20260421T191110
CREATED:20250723T163605Z
LAST-MODIFIED:20250723T163605Z
UID:1864-1754762400-1754773200@saldemilio.com
SUMMARY:SAL DEMILIO - Live At Underdogs - Hillsdale Michigan - 6:00 PM Dinner / Show
DESCRIPTION:
URL:https://saldemilio.com/event/sal-demilio-live-at-underdogs-hillsdale-michigan-600-pm-dinner-show/
LOCATION:UNDERDOGS\, 210 W Carlton Road\, Hillsdale\, MI\, 49242\, United States
END:VEVENT
BEGIN:VEVENT
DTSTART;TZID=UTC:20250810T180000
DTEND;TZID=UTC:20250810T210000
DTSTAMP:20260421T191110
CREATED:20250723T164021Z
LAST-MODIFIED:20250723T164021Z
UID:1866-1754848800-1754859600@saldemilio.com
SUMMARY:Sal Demilio Live at The Bartisan Plymouth MI - 6:00 PM Dinner & Show
DESCRIPTION:
URL:https://saldemilio.com/event/sal-demilio-live-at-the-bartisan-plymouth-mi-600-pm-dinner-show/
LOCATION:Bartisan Plymouth\, 1065 Ann Arbor Road\, Plymouth\, MI\, United States
END:VEVENT
BEGIN:VEVENT
DTSTART;TZID=UTC:20250816T200000
DTEND;TZID=UTC:20250816T213000
DTSTAMP:20260421T191110
CREATED:20250723T164239Z
LAST-MODIFIED:20250723T164239Z
UID:1869-1755374400-1755379800@saldemilio.com
SUMMARY:SAL DEMILIO - Mark Bonto Production - TBD Location Check Back
DESCRIPTION:
URL:https://saldemilio.com/event/sal-demilio-mark-bonto-production-tbd-location-check-back/
LOCATION:Michigan
END:VEVENT
BEGIN:VEVENT
DTSTART;TZID=UTC:20250820T080000
DTEND;TZID=UTC:20250831T170000
DTSTAMP:20260421T191110
CREATED:20250723T164427Z
LAST-MODIFIED:20250723T164427Z
UID:1871-1755676800-1756659600@saldemilio.com
SUMMARY:Carnival Cruise Pride - August 20 - 31 - Carnival Pride
DESCRIPTION:
URL:https://saldemilio.com/event/carnival-cruise-pride-august-20-31-carnival-pride/
LOCATION:Carnival Cruise Pride
END:VEVENT
BEGIN:VEVENT
DTSTART;TZID=UTC:20250821T183000
DTEND;TZID=UTC:20250821T213000
DTSTAMP:20260421T191110
CREATED:20250723T164551Z
LAST-MODIFIED:20250723T164551Z
UID:1874-1755801000-1755811800@saldemilio.com
SUMMARY:Sal & Bob Live At Genettit's In Northville MI
DESCRIPTION:
URL:https://saldemilio.com/event/sal-bob-live-at-genettits-in-northville-mi/
LOCATION:Genettis Hole In The Wall\, 108 East Main Street\, Northville\, Michigan
END:VEVENT
END:VCALENDAR