BEGIN:VCALENDAR
VERSION:2.0
PRODID:-//Sal Demilio - ECPv6.15.20//NONSGML v1.0//EN
CALSCALE:GREGORIAN
METHOD:PUBLISH
X-WR-CALNAME:Sal Demilio
X-ORIGINAL-URL:https://saldemilio.com
X-WR-CALDESC:Events for Sal Demilio
REFRESH-INTERVAL;VALUE=DURATION:PT1H
X-Robots-Tag:noindex
X-PUBLISHED-TTL:PT1H
BEGIN:VTIMEZONE
TZID:UTC
BEGIN:STANDARD
TZOFFSETFROM:+0000
TZOFFSETTO:+0000
TZNAME:UTC
DTSTART:20240101T000000
END:STANDARD
END:VTIMEZONE
BEGIN:VEVENT
DTSTART;TZID=UTC:20251023T190000
DTEND;TZID=UTC:20251023T213000
DTSTAMP:20260421T161233
CREATED:20251022T223018Z
LAST-MODIFIED:20251022T223018Z
UID:1893-1761246000-1761255000@saldemilio.com
SUMMARY:SAL & BOB LIVE COMEDY SHOW - Genetties Northville MI - 7:00 PM Dinner / Show
DESCRIPTION:
URL:https://saldemilio.com/event/sal-bob-live-comedy-show-genetties-northville-mi-700-pm-dinner-show/
LOCATION:Genettis Hole In The Wall\, 108 East Main Street\, Northville\, Michigan
END:VEVENT
BEGIN:VEVENT
DTSTART;TZID=UTC:20251026T200000
DTEND;TZID=UTC:20251026T220000
DTSTAMP:20260421T161233
CREATED:20251022T223148Z
LAST-MODIFIED:20251022T223148Z
UID:1895-1761508800-1761516000@saldemilio.com
SUMMARY:Sunday Night Comedy At Baristan in Plymouth - 8:00 PM Show
DESCRIPTION:
URL:https://saldemilio.com/event/sunday-night-comedy-at-baristan-in-plymouth-800-pm-show/
LOCATION:Bartisan Plymouth\, 1065 Ann Arbor Road\, Plymouth\, MI\, United States
END:VEVENT
BEGIN:VEVENT
DTSTART;TZID=UTC:20251029T200000
DTEND;TZID=UTC:20251029T220000
DTSTAMP:20260421T161233
CREATED:20251022T230314Z
LAST-MODIFIED:20251022T230314Z
UID:1897-1761768000-1761775200@saldemilio.com
SUMMARY:Carnival Cruise Dream - Punchliners Comedy Club
DESCRIPTION:
URL:https://saldemilio.com/event/carnival-cruise-dream-punchliners-comedy-club/
LOCATION:Michigan
END:VEVENT
BEGIN:VEVENT
DTSTART;TZID=UTC:20251030T200000
DTEND;TZID=UTC:20251030T220000
DTSTAMP:20260421T161233
CREATED:20251022T230411Z
LAST-MODIFIED:20251022T230411Z
UID:1899-1761854400-1761861600@saldemilio.com
SUMMARY:Carnival Cruise Dream - Punchliners Comedy Club
DESCRIPTION:
URL:https://saldemilio.com/event/carnival-cruise-dream-punchliners-comedy-club-2/
LOCATION:Michigan
END:VEVENT
BEGIN:VEVENT
DTSTART;TZID=UTC:20251031T200000
DTEND;TZID=UTC:20251031T220000
DTSTAMP:20260421T161233
CREATED:20251022T230508Z
LAST-MODIFIED:20251022T230508Z
UID:1901-1761940800-1761948000@saldemilio.com
SUMMARY:Carnival Cruise Dream - Punchliners Comedy Club
DESCRIPTION:
URL:https://saldemilio.com/event/carnival-cruise-dream-punchliners-comedy-club-3/
LOCATION:Michigan
END:VEVENT
END:VCALENDAR