BEGIN:VCALENDAR
VERSION:2.0
PRODID:-//Sal Demilio - ECPv6.15.20//NONSGML v1.0//EN
CALSCALE:GREGORIAN
METHOD:PUBLISH
X-ORIGINAL-URL:https://saldemilio.com
X-WR-CALDESC:Events for Sal Demilio
REFRESH-INTERVAL;VALUE=DURATION:PT1H
X-Robots-Tag:noindex
X-PUBLISHED-TTL:PT1H
BEGIN:VTIMEZONE
TZID:UTC
BEGIN:STANDARD
TZOFFSETFROM:+0000
TZOFFSETTO:+0000
TZNAME:UTC
DTSTART:20250101T000000
END:STANDARD
END:VTIMEZONE
BEGIN:VEVENT
DTSTART;TZID=UTC:20260206T200000
DTEND;TZID=UTC:20260206T213000
DTSTAMP:20260421T095546
CREATED:20251103T180909Z
LAST-MODIFIED:20251103T180909Z
UID:1986-1770408000-1770413400@saldemilio.com
SUMMARY:Bay Mills Casino - Brimley MI - 8:00 PM Show
DESCRIPTION:
URL:https://saldemilio.com/event/bay-mills-casino-brimley-mi-800-pm-show/
LOCATION:BAYMILLS CASINO
END:VEVENT
BEGIN:VEVENT
DTSTART;TZID=UTC:20260207T190000
DTEND;TZID=UTC:20260207T213000
DTSTAMP:20260421T095546
CREATED:20251103T181050Z
LAST-MODIFIED:20251103T181050Z
UID:1988-1770490800-1770499800@saldemilio.com
SUMMARY:Crystal Gardens Hall - Southgate MI - 7:00 PM Dinner & Show
DESCRIPTION:
URL:https://saldemilio.com/event/crystal-gardens-hall-southgate-mi-700-pm-dinner-show/
LOCATION:Crystal Gardens\, 16703 Fort Street\, Southgate\, MI\, 48195\, United States
END:VEVENT
BEGIN:VEVENT
DTSTART;TZID=UTC:20260213T183000
DTEND;TZID=UTC:20260213T213000
DTSTAMP:20260421T095546
CREATED:20260110T172014Z
LAST-MODIFIED:20260110T172014Z
UID:2015-1771007400-1771018200@saldemilio.com
SUMMARY:Captain Joes Valentines Day Weekend Comedy Shows
DESCRIPTION:
URL:https://saldemilio.com/event/captain-joes-valentines-day-weekend-comedy-shows/
LOCATION:Captain Joes Comedy Club\, 9901 Main St\, Whitmore Lake\, MI\, 48189\, United States
END:VEVENT
BEGIN:VEVENT
DTSTART;TZID=UTC:20260214T190000
DTEND;TZID=UTC:20260214T210000
DTSTAMP:20260421T095546
CREATED:20260110T172407Z
LAST-MODIFIED:20260110T172407Z
UID:2017-1771095600-1771102800@saldemilio.com
SUMMARY:Fenton Moose Lodge #430 Comedy Night Sal Demilio & Tonya Murray
DESCRIPTION:
URL:https://saldemilio.com/event/fenton-moose-lodge-430-comedy-night-sal-demilio-tonya-murray/
LOCATION:Fenton Moose Lodge\, 2245 Sonora Drive\, Fenton\, MI\, United States
END:VEVENT
BEGIN:VEVENT
DTSTART;TZID=UTC:20260219T190000
DTEND;TZID=UTC:20260219T213000
DTSTAMP:20260421T095546
CREATED:20260129T033411Z
LAST-MODIFIED:20260129T033411Z
UID:2033-1771527600-1771536600@saldemilio.com
SUMMARY:Sal & Bob Comedy Show - Northville MI - 7:00 PM Dinner & Show
DESCRIPTION:
URL:https://saldemilio.com/event/sal-bob-comedy-show-northville-mi-700-pm-dinner-show/
LOCATION:Genettis Hole In The Wall\, 108 East Main Street\, Northville\, Michigan
END:VEVENT
BEGIN:VEVENT
DTSTART;TZID=UTC:20260220T200000
DTEND;TZID=UTC:20260220T213000
DTSTAMP:20260421T095546
CREATED:20260110T172932Z
LAST-MODIFIED:20260204T173600Z
UID:2022-1771617600-1771623000@saldemilio.com
SUMMARY:Club Of Rotary Riverview Comedy show - Tom Massey \, Sal Demilio \, Tonya Murray
DESCRIPTION:
URL:https://saldemilio.com/event/comedy-night-sal-demilio-riverview-michigan/
LOCATION:Riverview Community Center
END:VEVENT
BEGIN:VEVENT
DTSTART;TZID=UTC:20260221T203000
DTEND;TZID=UTC:20260221T220000
DTSTAMP:20260421T095546
CREATED:20260110T173030Z
LAST-MODIFIED:20260110T173030Z
UID:2024-1771705800-1771711200@saldemilio.com
SUMMARY:Comedy Night Date Night - Saginaw Michigan Corporate
DESCRIPTION:
URL:https://saldemilio.com/event/comedy-night-date-night-saginaw-michigan-corporate/
LOCATION:Michigan
END:VEVENT
BEGIN:VEVENT
DTSTART;TZID=UTC:20260222T200000
DTEND;TZID=UTC:20260222T213000
DTSTAMP:20260421T095546
CREATED:20251103T181342Z
LAST-MODIFIED:20251103T181342Z
UID:1992-1771790400-1771795800@saldemilio.com
SUMMARY:Island Casino Comedy Night - Harris MI - 8:00 PM Show
DESCRIPTION:
URL:https://saldemilio.com/event/island-casino-comedy-night-harris-mi-800-pm-show/
LOCATION:ISLAND RESORT CASINO\, W399 US 2 & 41\, Harris\, MI\, 49845\, United States
END:VEVENT
BEGIN:VEVENT
DTSTART;TZID=UTC:20260228T200000
DTEND;TZID=UTC:20260228T213000
DTSTAMP:20260421T095546
CREATED:20260204T172858Z
LAST-MODIFIED:20260226T120155Z
UID:2055-1772308800-1772314200@saldemilio.com
SUMMARY:Taylors Tavern Comedy show - Holly Michigan - 8 PM
DESCRIPTION:
URL:https://saldemilio.com/event/comedian-company-corporate-show-grand-blanc-mi/
LOCATION:Michigan
END:VEVENT
END:VCALENDAR